BEGIN:VCALENDAR
PRODID:NingEventWidget-v1
VERSION:2.0
METHOD:PUBLISH
BEGIN:VTIMEZONE
TZID:Europe/Paris
X-LIC-LOCATION:Europe/Paris
BEGIN:DAYLIGHT
TZOFFSETFROM:+0100
TZOFFSETTO:+0200
TZNAME:CEST
DTSTART:19700329T020000
RRULE:FREQ=YEARLY;BYMONTH=3;BYDAY=-1SU
END:DAYLIGHT
BEGIN:STANDARD
TZOFFSETFROM:+0200
TZOFFSETTO:+0100
TZNAME:CET
DTSTART:19701025T030000
RRULE:FREQ=YEARLY;BYMONTH=10;BYDAY=-1SU
END:STANDARD
END:VTIMEZONE
BEGIN:VEVENT
UID:2485226:Event:3068676
DTSTAMP:20260424T084917Z
SUMMARY:Super-vision professionnelle avec l'articulation ego et Consci
 enceÂ©
DESCRIPTION:Super-Vision professionnelle\navec lâ€™Articulation ego et
  ConscienceÂ©\nSessions dâ€™1 journÃ©e â€“ Aux 4 Vents (77)\nAujourdâ€
 ™hui, plus que jamais, le secteur professionnel a besoin dâ€™Ãªtre dan
 s ce mouvement du dÃ©veloppement de Conscience.\nLa Super-Vision vous 
 propose dâ€™apporter lâ€™amplitude de Conscience que vous souhaitez da
 ns votre professionnel.\nEn manageant, en Super-Vision, je constate de
 puis des annÃ©es Ã´ combien vous pouvez dÃ©velopper dans votre secteur
  professionnel la notion dâ€™abondance heureuse, tout en respectant un
 e Ã©cologie interne et externe : rendre lâ€™action sociale Ã©thique en
  respectant vos valeurs. Il y a 5 ans, jâ€™ai Ã©tÃ© sollicitÃ©e pour m
 anager lâ€™Ã©quipe de direction dâ€™une entreprise avec lâ€™accompagne
 ment de lâ€™Articulation en ego et ConscienceÂ©. Câ€™est une magnifiqu
 e aventure humaine et sociale pleine de succÃ¨sâ€¦. Jâ€™accompagne dep
 uis des annÃ©es, en analyse de pratique, diffÃ©rents secteurs professi
 onnels.  Je propose : â€“ Une journÃ©e de temps de parole, de partage,
  de rÃ©flexion, dâ€™approfondissement autour de votre pratique profess
 ionnelle. â€“ Des analyses de pratique quelle que soit votre activitÃ©
  pro : thÃ©rapeute, enseignant, coach, entrepreneur, artisan, crÃ©ateu
 r, Ã©tudiant, salariÃ©â€¦ â€“ Une journÃ©e pour que votre action soit 
 dynamisÃ©e, que vous trouviez des rÃ©ponses â€“ Un temps de remise en 
 question personnelle â€“ Un regard sur la maniÃ¨re de concilier votre 
 personnalitÃ© et votre dÃ©veloppement professionnel. â€“ Des accompagn
 ements pour situer votre mission professionnelle Ã  la hauteur de votr
 e mission de vie.\nSessions proposÃ©es en 2020 : â€“ le samedi 27 juin
  2020 â€“ le dimanche 28 juin 2020 â€“ le samedi 26 septembre 2020 â€“
  le samedi 28 novembre 2020 Sessions proposÃ©es en 2021 : â€“ le samed
 i 09 janvier 2021 â€“ le samedi 24 avril 2021 Participation : 150â‚¬ (
 par journÃ©e)\n\nPour plus d'information, aller sur https://epanews.fr
 /events/super-vision-professionnelle-avec-l-articulation-ego-et-2
DTSTART;TZID=Europe/Paris:20210109T000000
DTEND;TZID=Europe/Paris:20210109T235900
CATEGORIES:77
LOCATION:Aux 4 Vents 77930
WEBSITE:https://www.ego-et-conscience.com/inscription-au-stage/
URL:https://www.ego-et-conscience.com/inscription-au-stage/
CONTACT:0629815644
ORGANIZER;CN="Lalitha Berton":https://epanews.fr/profile/egoetConscien
 ce
ATTACH;FMTTYPE="image/jpeg":
ATTENDEE;ROLE=REQ-PARTICIPANT;PARTSTAT=ACCEPTED;RSVP=TRUE;CN="Lalitha 
 Berton":https://epanews.fr/profile/egoetConscience
END:VEVENT
END:VCALENDAR
