BEGIN:VCALENDAR
PRODID:NingEventWidget-v1
VERSION:2.0
METHOD:PUBLISH
BEGIN:VTIMEZONE
TZID:Europe/Paris
X-LIC-LOCATION:Europe/Paris
BEGIN:DAYLIGHT
TZOFFSETFROM:+0100
TZOFFSETTO:+0200
TZNAME:CEST
DTSTART:19700329T020000
RRULE:FREQ=YEARLY;BYMONTH=3;BYDAY=-1SU
END:DAYLIGHT
BEGIN:STANDARD
TZOFFSETFROM:+0200
TZOFFSETTO:+0100
TZNAME:CET
DTSTART:19701025T030000
RRULE:FREQ=YEARLY;BYMONTH=10;BYDAY=-1SU
END:STANDARD
END:VTIMEZONE
BEGIN:VEVENT
UID:2485226:Event:2697840
DTSTAMP:20260421T202906Z
SUMMARY:summer free hugs
DESCRIPTION: après-midi calins gratuits à la cathédrale notre-dame
 \n\nPour plus d'information, aller sur https://epanews.fr/events/summe
 r-free-hugs
DTSTART;TZID=Europe/Paris:20160828T150000
DTEND;TZID=Europe/Paris:20160828T200000
CATEGORIES:75
LOCATION:paris
WEBSITE:
URL:
CONTACT:
ORGANIZER:
ATTACH;FMTTYPE="image/jpeg":
END:VEVENT
END:VCALENDAR
