BEGIN:VCALENDAR
PRODID:NingEventWidget-v1
VERSION:2.0
METHOD:PUBLISH
BEGIN:VTIMEZONE
TZID:Europe/Paris
X-LIC-LOCATION:Europe/Paris
BEGIN:DAYLIGHT
TZOFFSETFROM:+0100
TZOFFSETTO:+0200
TZNAME:CEST
DTSTART:19700329T020000
RRULE:FREQ=YEARLY;BYMONTH=3;BYDAY=-1SU
END:DAYLIGHT
BEGIN:STANDARD
TZOFFSETFROM:+0200
TZOFFSETTO:+0100
TZNAME:CET
DTSTART:19701025T030000
RRULE:FREQ=YEARLY;BYMONTH=10;BYDAY=-1SU
END:STANDARD
END:VTIMEZONE
BEGIN:VEVENT
UID:2485226:Event:105404
DTSTAMP:20260419T151213Z
SUMMARY:stand à l'Antigone des associations
DESCRIPTION:Rendez-nous visite, stand n°484 !\nAmbiance cocooning\nBo
 issons chaudes ...et HappyMag' offerts !\n\nPour plus d'information, a
 ller sur https://epanews.fr/events/stand-a-lantigone-des
DTSTART;TZID=Europe/Paris:20100912T000000
DTEND;TZID=Europe/Paris:20100912T235900
CATEGORIES:34
LOCATION:stand 484, entre l'hôtel d'Agglomération et le restaurant L
 e bugatti
WEBSITE:http://www.happyplanetdays.com
URL:http://www.happyplanetdays.com
CONTACT:
ORGANIZER;CN="Franck Dagorn":https://epanews.fr/profile/FranckDagorn
ATTACH;FMTTYPE="image/jpeg":
ATTENDEE;ROLE=REQ-PARTICIPANT;PARTSTAT=ACCEPTED;RSVP=TRUE;CN="Franck D
 agorn":https://epanews.fr/profile/FranckDagorn
END:VEVENT
END:VCALENDAR
