BEGIN:VCALENDAR
PRODID:NingEventWidget-v1
VERSION:2.0
METHOD:PUBLISH
BEGIN:VTIMEZONE
TZID:Europe/Paris
X-LIC-LOCATION:Europe/Paris
BEGIN:DAYLIGHT
TZOFFSETFROM:+0100
TZOFFSETTO:+0200
TZNAME:CEST
DTSTART:19700329T020000
RRULE:FREQ=YEARLY;BYMONTH=3;BYDAY=-1SU
END:DAYLIGHT
BEGIN:STANDARD
TZOFFSETFROM:+0200
TZOFFSETTO:+0100
TZNAME:CET
DTSTART:19701025T030000
RRULE:FREQ=YEARLY;BYMONTH=10;BYDAY=-1SU
END:STANDARD
END:VTIMEZONE
BEGIN:VEVENT
UID:2485226:Event:796719
DTSTAMP:20260420T082553Z
SUMMARY:Stan Rougier dans un Ashram : Vision chrétienne sur l'Hindoui
 sme
DESCRIPTION:Le dimanche 27 mai, Stan Rougier donnera une conférence a
 u Centre Védantique Ramakrishna, à Gretz-Armainvilliers (35 mn au Su
 d-Est de Paris-RER E arrêt Gretz). Une occasion de réconcilier une t
 radition vieille de 4 000 ans avec notre culture chrétienne. Une occa
 sion de rencontrer un Prêtre qui est tout Amour et aussi très lucide
  et de rencontrer un Guru Hindou, moine, co-fondateur du Dialogue Inte
 r-Monastique (DIM) qui est lui aussi humble, pur et sincère.\nDécouv
 rez le Centre, sa Chapelle, sa bibliothèque et son grand parc où se 
 promènent en liberté 5 biches...\nLa conférence et le café/thé so
 nt gratuits.\nPossibilité de déjeuner sur place à midi, téléphone
 r pour réserver.\n\nPour plus d'information, aller sur https://epanew
 s.fr/events/stan-rougier-dans-un-ashram-vision-chr-tienne-sur-l-hindou
 isme
DTSTART;TZID=Europe/Paris:20120527T140000
DTEND;TZID=Europe/Paris:20120527T161500
CATEGORIES:77
LOCATION:Gretz-Armainvilliers
WEBSITE:
URL:
CONTACT:0164070311
ORGANIZER:Centre Védantique Ramakrishna
ATTACH;FMTTYPE="image/jpeg":
ATTENDEE;ROLE=REQ-PARTICIPANT;PARTSTAT=ACCEPTED;RSVP=TRUE;CN="Gilles B
 arbéro":https://epanews.fr/profile/GillesBarbero
ATTENDEE;ROLE=REQ-PARTICIPANT;PARTSTAT=ACCEPTED;RSVP=TRUE;CN=ndeswasie
 re:https://epanews.fr/profile/ndeswasiere
END:VEVENT
END:VCALENDAR
