BEGIN:VCALENDAR
PRODID:NingEventWidget-v1
VERSION:2.0
METHOD:PUBLISH
BEGIN:VTIMEZONE
TZID:Europe/Paris
X-LIC-LOCATION:Europe/Paris
BEGIN:DAYLIGHT
TZOFFSETFROM:+0100
TZOFFSETTO:+0200
TZNAME:CEST
DTSTART:19700329T020000
RRULE:FREQ=YEARLY;BYMONTH=3;BYDAY=-1SU
END:DAYLIGHT
BEGIN:STANDARD
TZOFFSETFROM:+0200
TZOFFSETTO:+0100
TZNAME:CET
DTSTART:19701025T030000
RRULE:FREQ=YEARLY;BYMONTH=10;BYDAY=-1SU
END:STANDARD
END:VTIMEZONE
BEGIN:VEVENT
UID:2485226:Event:1051927
DTSTAMP:20260422T025908Z
SUMMARY:StageTantra - prix prÃ©fÃ©rentiel pour 2 hommes
DESCRIPTION:Stage TANTRA  http://www.lesfleursdelotus.com du 8 au 9 dÃ
 ©cembre Ã  Biot (06) prÃ¨s d'Antibes. Il reste deux places disponibles
  pour 2 hommes...\navec un prix prÃ©fÃ©rentiel de 80â‚¬ au lieu de 130
 â‚¬ pour les 2 jours.  Groupe limitÃ© Ã  14 personnes : 7 femmes et 7 
 hommes. HÃ©bergement prix modique. Nourriture amenÃ©e par les particip
 ant(e)s et partagÃ©e.  L'adresse exacte vous sera donnÃ©e lors de votr
 e inscription.\nSi vous Ãªtes intÃ©ressÃ©, merci de tÃ©lÃ©phoner le pl
 us rapidement possible pour rÃ©server votre place : 06 86 64 23 79 - 0
 4 94 86 67 98\n\nPour plus d'information, aller sur https://epanews.fr
 /events/stagetantra-prix-pr-f-rentiel-pour-2-hommes
DTSTART;TZID=Europe/Paris:20121208T100000
DTEND;TZID=Europe/Paris:20121209T170000
CATEGORIES:83, 13, 06
LOCATION:Antibes
WEBSITE:http://lesfleursdelotus.com
URL:http://lesfleursdelotus.com
CONTACT:06 86 64 23 79
ORGANIZER;CN=Arshi:https://epanews.fr/profile/Arshi
ATTACH;FMTTYPE="image/jpeg":http://storage.ning.com/topology/rest/1.0/
 file/get/1662634429?profile=original
ATTENDEE;ROLE=REQ-PARTICIPANT;PARTSTAT=ACCEPTED;RSVP=TRUE;CN=Arshi:htt
 ps://epanews.fr/profile/Arshi
END:VEVENT
END:VCALENDAR
