BEGIN:VCALENDAR
PRODID:NingEventWidget-v1
VERSION:2.0
METHOD:PUBLISH
BEGIN:VTIMEZONE
TZID:Europe/Paris
X-LIC-LOCATION:Europe/Paris
BEGIN:DAYLIGHT
TZOFFSETFROM:+0100
TZOFFSETTO:+0200
TZNAME:CEST
DTSTART:19700329T020000
RRULE:FREQ=YEARLY;BYMONTH=3;BYDAY=-1SU
END:DAYLIGHT
BEGIN:STANDARD
TZOFFSETFROM:+0200
TZOFFSETTO:+0100
TZNAME:CET
DTSTART:19701025T030000
RRULE:FREQ=YEARLY;BYMONTH=10;BYDAY=-1SU
END:STANDARD
END:VTIMEZONE
BEGIN:VEVENT
UID:2485226:Event:905641
DTSTAMP:20260422T010033Z
SUMMARY:Stages de yoga du son près de Montpellier
DESCRIPTION:Si vous souhaitez prendre un temps pour vous, à la fraîc
 he, et vibrer au son de votre voix et de celle des autres, je vous pro
 pose de nous retrouver :\n-Samedi 25 Août de 15h à 19h à la chape
 lle des Pénitents de Cournonterral\nExtrait du programme de base :\n
 - travail sur la tonicité de notre musculature profonde reliée à la
  voix, au souffle et à nos 7 chakras principaux\n- conscience et ou
 verture de nos résonnateurs\n- techniques de nettoyage, d'énergétis
 ation avec les sons\n- chant des voyelles et mantras...\nTarif: 40€.
   Corinne Henry 04 67 59 70 63 - 06 28 06 00 08 - www.leschantsdesoi
 .com \n\nPour plus d'information, aller sur https://epanews.fr/events
 /stages-de-yoga-du-son-pr-s-de-montpellier
DTSTART;TZID=Europe/Paris:20120825T150000
DTEND;TZID=Europe/Paris:20120825T190000
CATEGORIES:34
LOCATION:chapelle des Pénitents de Cournonterral (15km de Montpellier
 )
WEBSITE:http://www.leschantsdesoi.com
URL:http://www.leschantsdesoi.com
CONTACT:04 67 59 70 63 / 06 28 06 0008
ORGANIZER:Corinne HENRY
ATTACH;FMTTYPE="image/jpeg":http://storage.ning.com/topology/rest/1.0/
 file/get/1662647848?profile=original
ATTENDEE;ROLE=REQ-PARTICIPANT;PARTSTAT=ACCEPTED;RSVP=TRUE;CN=Henry:htt
 ps://epanews.fr/profile/PhilippeHENRY
END:VEVENT
END:VCALENDAR
