BEGIN:VCALENDAR
PRODID:NingEventWidget-v1
VERSION:2.0
METHOD:PUBLISH
BEGIN:VTIMEZONE
TZID:Europe/Paris
X-LIC-LOCATION:Europe/Paris
BEGIN:DAYLIGHT
TZOFFSETFROM:+0100
TZOFFSETTO:+0200
TZNAME:CEST
DTSTART:19700329T020000
RRULE:FREQ=YEARLY;BYMONTH=3;BYDAY=-1SU
END:DAYLIGHT
BEGIN:STANDARD
TZOFFSETFROM:+0200
TZOFFSETTO:+0100
TZNAME:CET
DTSTART:19701025T030000
RRULE:FREQ=YEARLY;BYMONTH=10;BYDAY=-1SU
END:STANDARD
END:VTIMEZONE
BEGIN:VEVENT
UID:2485226:Event:2179805
DTSTAMP:20260426T031803Z
SUMMARY:Stages Autour de la Voix
DESCRIPTION:Stages autour de la voix : Ecoute, posture, empreinte voca
 le, créativité, chant spontané\n\nPour plus d'information, aller su
 r https://epanews.fr/events/stages-autour-de-la-voix
DTSTART;TZID=Europe/Paris:20150213T093000
DTEND;TZID=Europe/Paris:20150215T173000
CATEGORIES:12
LOCATION:Saint-Affrique
WEBSITE:http://www.laclefdharmonie.com
URL:http://www.laclefdharmonie.com
CONTACT:0649988709
ORGANIZER;CN="Devi Arnold":https://epanews.fr/profile/DeviArnold
ATTACH;FMTTYPE="image/jpeg":http://storage.ning.com/topology/rest/1.0/
 file/get/1663300369?profile=original
ATTENDEE;ROLE=REQ-PARTICIPANT;PARTSTAT=ACCEPTED;RSVP=TRUE;CN="Devi Arn
 old":https://epanews.fr/profile/DeviArnold
END:VEVENT
END:VCALENDAR
