BEGIN:VCALENDAR
PRODID:NingEventWidget-v1
VERSION:2.0
METHOD:PUBLISH
BEGIN:VTIMEZONE
TZID:Europe/Paris
X-LIC-LOCATION:Europe/Paris
BEGIN:DAYLIGHT
TZOFFSETFROM:+0100
TZOFFSETTO:+0200
TZNAME:CEST
DTSTART:19700329T020000
RRULE:FREQ=YEARLY;BYMONTH=3;BYDAY=-1SU
END:DAYLIGHT
BEGIN:STANDARD
TZOFFSETFROM:+0200
TZOFFSETTO:+0100
TZNAME:CET
DTSTART:19701025T030000
RRULE:FREQ=YEARLY;BYMONTH=10;BYDAY=-1SU
END:STANDARD
END:VTIMEZONE
BEGIN:VEVENT
UID:2485226:Event:45744
DTSTAMP:20260419T211223Z
SUMMARY:STAGE-ATELIER D'AFFIRMATION DE SOI
DESCRIPTION:VENEZ DÉCOUVRIR UNE DES CLÉS ESSENTIELLES DE L'ÉPANOUIS
 SEMENT PERSONNEL\n\nCHOISIR L'EXPRESSION DE SOI AUTHENTIQUE ET TROUVER
  L'ÉQUILIBRE DANS VOS RELATIONS\n\nClaudine Decaux et Jasmine Bourque
  sont franco-canadiennes et vous accueillent avec convivialité et cha
 leur\n\nPrésentation de la journée/réservations www.trouversonharmo
 nie.com\n\nRéservation obligatoire, places limitées\n\nClaudine Deca
 ux, Sexologue clinicienne, Psychothérapeute, Thérapeute de couple et
  Jasmine Bourque, Psychologue clinicienne (Canada) sont franco-canadie
 nnes\n\nPour plus d'information, aller sur https://epanews.fr/events/s
 tageatelier-daffirmation-de
DTSTART;TZID=Europe/Paris:20100529T084500
DTEND;TZID=Europe/Paris:20100529T171500
CATEGORIES:13
LOCATION:Espace Salvator
WEBSITE:http://www.trouversonharmonie.com
URL:http://www.trouversonharmonie.com
CONTACT:06 36 94 00 03
ORGANIZER:Claudine Decaux et Jasmine Bourque
ATTACH;FMTTYPE="image/jpeg":http://storage.ning.com/topology/rest/1.0/
 file/get/1662294512?profile=original
ATTENDEE;ROLE=REQ-PARTICIPANT;PARTSTAT=ACCEPTED;RSVP=TRUE;CN=corinne:h
 ttps://epanews.fr/profile/lafont
ATTENDEE;ROLE=REQ-PARTICIPANT;PARTSTAT=ACCEPTED;RSVP=TRUE;CN="claudine
  decaux":https://epanews.fr/profile/claudinedecaux
ATTENDEE;ROLE=REQ-PARTICIPANT;PARTSTAT=TENTATIVE;RSVP=TRUE;CN=chloé:h
 ttps://epanews.fr/profile/chloe
END:VEVENT
END:VCALENDAR
