BEGIN:VCALENDAR
PRODID:NingEventWidget-v1
VERSION:2.0
METHOD:PUBLISH
BEGIN:VTIMEZONE
TZID:Europe/Paris
X-LIC-LOCATION:Europe/Paris
BEGIN:DAYLIGHT
TZOFFSETFROM:+0100
TZOFFSETTO:+0200
TZNAME:CEST
DTSTART:19700329T020000
RRULE:FREQ=YEARLY;BYMONTH=3;BYDAY=-1SU
END:DAYLIGHT
BEGIN:STANDARD
TZOFFSETFROM:+0200
TZOFFSETTO:+0100
TZNAME:CET
DTSTART:19701025T030000
RRULE:FREQ=YEARLY;BYMONTH=10;BYDAY=-1SU
END:STANDARD
END:VTIMEZONE
BEGIN:VEVENT
UID:2485226:Event:2671142
DTSTAMP:20260423T211401Z
SUMMARY:stage yoga, pranayama (respirations yogique) et mÃ©ditation
DESCRIPTION:Ce stage propose un travail de nettoyage corporel et d'app
 rofondissement des sensations afin de se reconnecter Ã  son Ãªtre prof
 ond, dans la dÃ©tente et le respect de soi-mÃªme.\nExercices sur le so
 uffle, nettoyages (kriya),travail d'harmonisation des chakras, rÃªve Ã
 ©veillÃ©, asanas (postures de yoga), mantras, mÃ©ditation.\nLe lieu es
 t propice Ã  la dÃ©tente et Ã  la sÃ©rÃ©nitÃ©, en campagne, vue domina
 nte Ã  360Â°, rÃ©novation Ã©cologique, riviÃ¨re et balade Ã  proximitÃ
 ©.\n\nPour plus d'information, aller sur https://epanews.fr/events/sta
 ge-yoga-pranayama-respirations-yogique-et-m-ditation-1
DTSTART;TZID=Europe/Paris:20160801T070000
DTEND;TZID=Europe/Paris:20160806T070000
CATEGORIES:26
LOCATION:26
WEBSITE:http://regardinterieur.jimdo.com
URL:http://regardinterieur.jimdo.com
CONTACT:0683185401
ORGANIZER;CN="regard intÃ©rieur":https://epanews.fr/profile/regardinte
 rieur
ATTACH;FMTTYPE="image/jpeg":
ATTENDEE;ROLE=REQ-PARTICIPANT;PARTSTAT=ACCEPTED;RSVP=TRUE;CN="regard i
 ntÃ©rieur":https://epanews.fr/profile/regardinterieur
END:VEVENT
END:VCALENDAR
