BEGIN:VCALENDAR
PRODID:NingEventWidget-v1
VERSION:2.0
METHOD:PUBLISH
BEGIN:VTIMEZONE
TZID:Europe/Paris
X-LIC-LOCATION:Europe/Paris
BEGIN:DAYLIGHT
TZOFFSETFROM:+0100
TZOFFSETTO:+0200
TZNAME:CEST
DTSTART:19700329T020000
RRULE:FREQ=YEARLY;BYMONTH=3;BYDAY=-1SU
END:DAYLIGHT
BEGIN:STANDARD
TZOFFSETFROM:+0200
TZOFFSETTO:+0100
TZNAME:CET
DTSTART:19701025T030000
RRULE:FREQ=YEARLY;BYMONTH=10;BYDAY=-1SU
END:STANDARD
END:VTIMEZONE
BEGIN:VEVENT
UID:2485226:Event:2464154
DTSTAMP:20260422T011133Z
SUMMARY:stage yoga pour tous en ariège août 2016
DESCRIPTION:Avec l'association Infinie Gratitude nous vous proposons d
 es stages de Yoga et bien-être pour tous en Ariège. Stage accessible
  et adapté à chacun, venez vous ressourcer en pratiquant le yoga, le
  massage, la méditation dans un cadre verdoyant et ressourçant. plus
 ieurs stages par an, n'hésitez pas à nous contacter pour plus d'info
 rmation.\n\nPour plus d'information, aller sur https://epanews.fr/even
 ts/stage-yoga-pour-tous-et-bien-tre-en-pratique-en-ari-ge-2
DTSTART;TZID=Europe/Paris:20160821T170000
DTEND;TZID=Europe/Paris:20160827T110000
CATEGORIES:09
LOCATION:Ariège
WEBSITE:
URL:
CONTACT:0663111397
ORGANIZER;CN="dubois myrtal":https://epanews.fr/profile/duboismyrtal
ATTACH;FMTTYPE="image/jpeg":http://storage.ning.com/topology/rest/1.0/
 file/get/1663475097?profile=original
ATTENDEE;ROLE=REQ-PARTICIPANT;PARTSTAT=ACCEPTED;RSVP=TRUE;CN="dubois m
 yrtal":https://epanews.fr/profile/duboismyrtal
END:VEVENT
END:VCALENDAR
