BEGIN:VCALENDAR
PRODID:NingEventWidget-v1
VERSION:2.0
METHOD:PUBLISH
BEGIN:VTIMEZONE
TZID:Europe/Paris
X-LIC-LOCATION:Europe/Paris
BEGIN:DAYLIGHT
TZOFFSETFROM:+0100
TZOFFSETTO:+0200
TZNAME:CEST
DTSTART:19700329T020000
RRULE:FREQ=YEARLY;BYMONTH=3;BYDAY=-1SU
END:DAYLIGHT
BEGIN:STANDARD
TZOFFSETFROM:+0200
TZOFFSETTO:+0100
TZNAME:CET
DTSTART:19701025T030000
RRULE:FREQ=YEARLY;BYMONTH=10;BYDAY=-1SU
END:STANDARD
END:VTIMEZONE
BEGIN:VEVENT
UID:2485226:Event:678562
DTSTAMP:20260422T021734Z
SUMMARY:stage yoga- massages- marche consciente
DESCRIPTION:Situé entre Limoux et Quillan dans la Haute-Vallée de l'
 Aude, nous partirons à la rencontre de magnifiques paysages sur les t
 erres Cathares, peuplées de légendes et de mystères et où culmine 
 le célèbre Mont Bugarach.\nNous fortifierons notre énergie et notre
  vitalité par des pratiques de yoga et de souffles.\nNous pratiqueron
 s la marche consciente en relation avec la nature et nous nous initier
 ons aux de techniques de détentes corporelles.\nL''équilibre entre l
 es activités physiques actives et intériorisantes accessible à tous
 , fait le charme de ce séjour original en pleine nature.\n\nPour plus
  d'information, aller sur https://epanews.fr/events/stage-yoga-massage
 s-marche-consciente
DTSTART;TZID=Europe/Paris:20120819T140000
DTEND;TZID=Europe/Paris:20120824T170000
CATEGORIES:11
LOCATION:haute vallée de l'aude
WEBSITE:http://www.acorpsdesoi.fr
URL:http://www.acorpsdesoi.fr
CONTACT:0631571184
ORGANIZER;CN="NELLY thuilleras":https://epanews.fr/profile/nellybethmo
 nt
ATTACH;FMTTYPE="image/jpeg":
ATTENDEE;ROLE=REQ-PARTICIPANT;PARTSTAT=ACCEPTED;RSVP=TRUE;CN="NELLY th
 uilleras":https://epanews.fr/profile/nellybethmont
ATTENDEE;ROLE=REQ-PARTICIPANT;PARTSTAT=TENTATIVE;RSVP=TRUE;CN=michelle
 :https://epanews.fr/profile/rebel
END:VEVENT
END:VCALENDAR
