BEGIN:VCALENDAR
PRODID:NingEventWidget-v1
VERSION:2.0
METHOD:PUBLISH
BEGIN:VTIMEZONE
TZID:Europe/Paris
X-LIC-LOCATION:Europe/Paris
BEGIN:DAYLIGHT
TZOFFSETFROM:+0100
TZOFFSETTO:+0200
TZNAME:CEST
DTSTART:19700329T020000
RRULE:FREQ=YEARLY;BYMONTH=3;BYDAY=-1SU
END:DAYLIGHT
BEGIN:STANDARD
TZOFFSETFROM:+0200
TZOFFSETTO:+0100
TZNAME:CET
DTSTART:19701025T030000
RRULE:FREQ=YEARLY;BYMONTH=10;BYDAY=-1SU
END:STANDARD
END:VTIMEZONE
BEGIN:VEVENT
UID:2485226:Event:475657
DTSTAMP:20260422T221736Z
SUMMARY:Stage Voyage Chamanique
DESCRIPTION:Aller à la rencontre de votre animal totem et dans la for
 ge alchimique\n180€ le week end\n+ d'infos : nature-conscience-chama
 nisme\n       et : art-gaia-et-cercles-de-lune\n\nPour plus d'in
 formation, aller sur https://epanews.fr/events/stage-voyage-chamanique
DTSTART;TZID=Europe/Paris:20111015T000000
DTEND;TZID=Europe/Paris:20111016T235900
CATEGORIES:69
LOCATION:près de Lyon
WEBSITE:
URL:
CONTACT:06 10 33 98 19
ORGANIZER;CN="chantal garcia":https://epanews.fr/profile/chantalgarcia
ATTACH;FMTTYPE="image/jpeg":
ATTENDEE;ROLE=REQ-PARTICIPANT;PARTSTAT=ACCEPTED;RSVP=TRUE;CN="chantal 
 garcia":https://epanews.fr/profile/chantalgarcia
END:VEVENT
END:VCALENDAR
