BEGIN:VCALENDAR
PRODID:NingEventWidget-v1
VERSION:2.0
METHOD:PUBLISH
BEGIN:VTIMEZONE
TZID:Europe/Paris
X-LIC-LOCATION:Europe/Paris
BEGIN:DAYLIGHT
TZOFFSETFROM:+0100
TZOFFSETTO:+0200
TZNAME:CEST
DTSTART:19700329T020000
RRULE:FREQ=YEARLY;BYMONTH=3;BYDAY=-1SU
END:DAYLIGHT
BEGIN:STANDARD
TZOFFSETFROM:+0200
TZOFFSETTO:+0100
TZNAME:CET
DTSTART:19701025T030000
RRULE:FREQ=YEARLY;BYMONTH=10;BYDAY=-1SU
END:STANDARD
END:VTIMEZONE
BEGIN:VEVENT
UID:2485226:Event:154120
DTSTAMP:20260423T153534Z
SUMMARY:Stage Vocal \"Improvisation et Rythme \"
DESCRIPTION:Ce stage a pour objectif d’approcher l’Improvisation e
 t le Rythme de manière structurée et libre  De se placer à l’éco
 ute attentive du son, en recherchant un entraînement à la vélocité
  de sa propre Voix.  D’exploiter la percussion corporelle et la voix
  pour exprimer sa créativité  Il n’est pas nécessaire de connaît
 re la musique, le solfège ou de savoir jouer d’un instrument.  Ce m
 oment est ouvert à toute personne voulant découvrir sa Voix et vivre
  un événement sonore.\n\nPour plus d'information, aller sur https://
 epanews.fr/events/stage-vocal-improvisation-et
DTSTART;TZID=Europe/Paris:20111126T000000
DTEND;TZID=Europe/Paris:20111127T235900
CATEGORIES:34
LOCATION:Espace des Condamines 34230 le Pouget
WEBSITE:http://maps.google.fr/maps?f=q&source=embed&hl=fr&geocode=&q=l
 e+pouget&ie=UTF8&hq=&hnear=Le+Pouget,+H%C3%A9rault,+Languedoc-Roussill
 on&ll=43.592427,3.522688&spn=0.002646,0.004603&t=h&z=14
URL:http://maps.google.fr/maps?f=q&source=embed&hl=fr&geocode=&q=le+po
 uget&ie=UTF8&hq=&hnear=Le+Pouget,+H%C3%A9rault,+Languedoc-Roussillon&l
 l=43.592427,3.522688&spn=0.002646,0.004603&t=h&z=14
CONTACT:0467966629/0678616104
ORGANIZER;CN="Le Chœur Médiateur":https://epanews.fr/profile/LaSonop
 honieAppliquee
ATTACH;FMTTYPE="image/jpeg":http://storage.ning.com/topology/rest/1.0/
 file/get/1662360380?profile=original
ATTENDEE;ROLE=REQ-PARTICIPANT;PARTSTAT=ACCEPTED;RSVP=TRUE;CN="Le Chœu
 r Médiateur":https://epanews.fr/profile/LaSonophonieAppliquee
END:VEVENT
END:VCALENDAR
