BEGIN:VCALENDAR
PRODID:NingEventWidget-v1
VERSION:2.0
METHOD:PUBLISH
BEGIN:VTIMEZONE
TZID:Europe/Paris
X-LIC-LOCATION:Europe/Paris
BEGIN:DAYLIGHT
TZOFFSETFROM:+0100
TZOFFSETTO:+0200
TZNAME:CEST
DTSTART:19700329T020000
RRULE:FREQ=YEARLY;BYMONTH=3;BYDAY=-1SU
END:DAYLIGHT
BEGIN:STANDARD
TZOFFSETFROM:+0200
TZOFFSETTO:+0100
TZNAME:CET
DTSTART:19701025T030000
RRULE:FREQ=YEARLY;BYMONTH=10;BYDAY=-1SU
END:STANDARD
END:VTIMEZONE
BEGIN:VEVENT
UID:2485226:Event:337134
DTSTAMP:20260423T051521Z
SUMMARY:Stage Vocal \" Improvisation et Sons Intuitifs\"
DESCRIPTION:Dans ce stage sera développéL’improvisation VOCALE- ry
 thme et Chants répétitifs support à l’improvisation intuitive-  
 Exercices vocaux     Les Sons Intuitifs    Lâcher prise de la 
 technique vocale Libération des émotions  par verbalisationdes sen
 sations corporelles (Échelle du Son)Écoute de l’intention de la pr
 ofondeur de l’ êtreConscientisation de ma Voix vers ma Voie...Tarif
 s : Vendredi1 et Samedi 2 Juillet=140€\n           Vendred
 i1, Samedi 2 et Dimanche 3 Juillet =180€\n \nHoraires : 9h30 - 12h1
 5 et 14h - 17hSalle polyvalente Espace des Condamines Le PougetRepas e
 n commun sur place « tiré du sac »\n\nPour plus d'information, alle
 r sur https://epanews.fr/events/stage-vocal-improvisation-et-2
DTSTART;TZID=Europe/Paris:20110701T000000
DTEND;TZID=Europe/Paris:20110703T235900
CATEGORIES:34
LOCATION:Le Pouget
WEBSITE:
URL:
CONTACT:0467966629/0678616104
ORGANIZER;CN="Le Chœur Médiateur":https://epanews.fr/profile/LaSonop
 honieAppliquee
ATTACH;FMTTYPE="image/jpeg":http://storage.ning.com/topology/rest/1.0/
 file/get/1662423501?profile=original
ATTENDEE;ROLE=REQ-PARTICIPANT;PARTSTAT=ACCEPTED;RSVP=TRUE;CN="Le Chœu
 r Médiateur":https://epanews.fr/profile/LaSonophonieAppliquee
END:VEVENT
END:VCALENDAR
