BEGIN:VCALENDAR
PRODID:NingEventWidget-v1
VERSION:2.0
METHOD:PUBLISH
BEGIN:VTIMEZONE
TZID:Europe/Paris
X-LIC-LOCATION:Europe/Paris
BEGIN:DAYLIGHT
TZOFFSETFROM:+0100
TZOFFSETTO:+0200
TZNAME:CEST
DTSTART:19700329T020000
RRULE:FREQ=YEARLY;BYMONTH=3;BYDAY=-1SU
END:DAYLIGHT
BEGIN:STANDARD
TZOFFSETFROM:+0200
TZOFFSETTO:+0100
TZNAME:CET
DTSTART:19701025T030000
RRULE:FREQ=YEARLY;BYMONTH=10;BYDAY=-1SU
END:STANDARD
END:VTIMEZONE
BEGIN:VEVENT
UID:2485226:Event:2587942
DTSTAMP:20260422T225402Z
SUMMARY:Stage \"vivre sa spiritualité au quotidien, Pratiques de reli
 ance pour servir la vie\"
DESCRIPTION:Un stage pour se centrer, écouter son cœur et réajuster
  son chemin de vie. Un Week-end pour prendre soin de soi, pour sentir 
 et écouter ce qui est bon et juste pour soi et l'intégrer dans une v
 ie plus jolie. Comment ? En développant sa présence et son lien à s
 oi, en méditant, en ralentissant son rythme de vie, en prenant de la 
 hauteur par rapport aux événements et au quotidien...  Ce stage est 
 animé par deux personnalités inspirantes, deux guides: Muriel Hemels
 oet et Jean-Philippe Faure\n\nPour plus d'information, aller sur https
 ://epanews.fr/events/stage-vivre-sa-spiritualit-au-quotidien-pratiques
 -de-reliance
DTSTART;TZID=Europe/Paris:20160325T180000
DTEND;TZID=Europe/Paris:20160327T170000
CATEGORIES:tous
LOCATION:Cadenet
WEBSITE:http://www.lepetitprince.asso.fr/uploads/FA/stageVivreSaSpirit
 ualite25au27mars2016.pdf
URL:http://www.lepetitprince.asso.fr/uploads/FA/stageVivreSaSpirituali
 te25au27mars2016.pdf
CONTACT:04 90 68 10 00
ORGANIZER;CN="Fontaine de l'Aube":https://epanews.fr/profile/Fontained
 elAube
ATTACH;FMTTYPE="image/jpeg":http://storage.ning.com/topology/rest/1.0/
 file/get/1663532346?profile=original
ATTENDEE;ROLE=REQ-PARTICIPANT;PARTSTAT=ACCEPTED;RSVP=TRUE;CN="Fontaine
  de l'Aube":https://epanews.fr/profile/FontainedelAube
END:VEVENT
END:VCALENDAR
