BEGIN:VCALENDAR
PRODID:NingEventWidget-v1
VERSION:2.0
METHOD:PUBLISH
BEGIN:VTIMEZONE
TZID:Europe/Paris
X-LIC-LOCATION:Europe/Paris
BEGIN:DAYLIGHT
TZOFFSETFROM:+0100
TZOFFSETTO:+0200
TZNAME:CEST
DTSTART:19700329T020000
RRULE:FREQ=YEARLY;BYMONTH=3;BYDAY=-1SU
END:DAYLIGHT
BEGIN:STANDARD
TZOFFSETFROM:+0200
TZOFFSETTO:+0100
TZNAME:CET
DTSTART:19701025T030000
RRULE:FREQ=YEARLY;BYMONTH=10;BYDAY=-1SU
END:STANDARD
END:VTIMEZONE
BEGIN:VEVENT
UID:2485226:Event:691857
DTSTAMP:20260423T161805Z
SUMMARY:Stage Vivre en SantÃ© Guy Corneau et Pierre Lessard Ã  Lyon
DESCRIPTION:Lors de cette journÃ©e d'atelier, Guy Corneau et Pierre Le
 ssardÂ vous guideront pas Ã  pas Ã :\n\nTransformer et pacifier vos Ã©
 tats intÃ©rieurs par la visualisation pour retrouver l'Ã©tat de joie q
 ui existe dÃ©jÃ  en soi.\nDialoguer avec vos cellules pour transformer
  les processus cellulaires de dÃ©gÃ©nÃ©rescence et stimuler les proces
 sus de rÃ©gÃ©nÃ©ration.\nIntensifier votre rythme vibratoire par la mÃ
 ©ditation pour vous libÃ©rer des pensÃ©es contraignantes et retrouver 
 une rÃ©alitÃ© plus vaste.\n\nÂ \nUne journÃ©e consacrÃ©e Ã  lâ€™appren
 tissage de mÃ©thodes concrÃ¨tes dâ€™auto guÃ©rison Ã©maillÃ©e de propo
 s sur la santÃ© physique et psychique quiÂ vous permettra de repartir 
 avec des outils que vous pourrez utiliser au quotidien.\nÂ Prix 100 eu
 ros\nÂ \nInscription : Espace SYMBOLESCENCE 32 rue du Plat - 69002 LYO
 N\n09 81 80 87 27 - http://www.symbolescence.fr/\nÂ \nPas de vente de 
 billets sur place\nÂ \nÂ \nÂ \nÂ \n\nPour plus d'information, aller su
 r https://epanews.fr/events/stage-vivre-en-sant-guy-corneau-et-pierre-
 lessard-lyon
DTSTART;TZID=Europe/Paris:20120422T000000
DTEND;TZID=Europe/Paris:20120422T235900
CATEGORIES:69
LOCATION:Lyon
WEBSITE:http://www.symbolescence.fr/conference/?Stages/Atelier-Guy-Cor
 neau
URL:http://www.symbolescence.fr/conference/?Stages/Atelier-Guy-Corneau
CONTACT:09 81 80 87 27 -
ORGANIZER;CN=ClÃ©mence:https://epanews.fr/profile/Clemence
ATTACH;FMTTYPE="image/jpeg":http://storage.ning.com/topology/rest/1.0/
 file/get/1662557007?profile=original
ATTENDEE;ROLE=REQ-PARTICIPANT;PARTSTAT=ACCEPTED;RSVP=TRUE;CN=ClÃ©mence
 :https://epanews.fr/profile/Clemence
END:VEVENT
END:VCALENDAR
