BEGIN:VCALENDAR
PRODID:NingEventWidget-v1
VERSION:2.0
METHOD:PUBLISH
BEGIN:VTIMEZONE
TZID:Europe/Paris
X-LIC-LOCATION:Europe/Paris
BEGIN:DAYLIGHT
TZOFFSETFROM:+0100
TZOFFSETTO:+0200
TZNAME:CEST
DTSTART:19700329T020000
RRULE:FREQ=YEARLY;BYMONTH=3;BYDAY=-1SU
END:DAYLIGHT
BEGIN:STANDARD
TZOFFSETFROM:+0200
TZOFFSETTO:+0100
TZNAME:CET
DTSTART:19701025T030000
RRULE:FREQ=YEARLY;BYMONTH=10;BYDAY=-1SU
END:STANDARD
END:VTIMEZONE
BEGIN:VEVENT
UID:2485226:Event:3053156
DTSTAMP:20260424T234531Z
SUMMARY:Stage \"Trouver sa Voix\"
DESCRIPTION:La voix est une caractÃ©ristique de lâ€™Ãªtre humain. Â  L
 e chant existe depuis toujours. Il a vocation Ã  Ã©nergÃ©tiser, ressou
 rcer et dynamiser.Â Il fait vibrer nos cellules. Il favorise la synchr
 onisation des deux hÃ©misphÃ¨res cÃ©rÃ©braux,Â et peut amÃ©liorerÂ not
 reÂ immunitÃ©. Il permet Ã  certains dâ€™exprimer des ressentis diffic
 iles Ã  extÃ©rioriser. Pour certaines personnes, le chant reprÃ©sente 
 une thÃ©rapie. Câ€™est un chemin vers soi-mÃªme quiÂ  permet de nous r
 Ã©vÃ©ler. Nous sommes confrontÃ©s Ã  nos limites et sommes invitÃ©s Ã 
  Ãªtre bienveillants avec nous-mÃªmes et Ã  nous accueillir. Par le ch
 ant, nous montrons au monde qui nous sommes  La voix est le reflet de 
 lâ€™Ã¢me, de notre richesse intÃ©rieure, mais aussi de nos freins, peu
 rs, manques,â€¦ Â  Trouver son timbre impliqueÂ : - une dÃ©tente du co
 rps tout entier en mÃªme temps quâ€™un bon ancrage, une respiration li
 bre. - une fluiditÃ© des organes de la phonation. - une posture alignÃ
 ©e, une bonne utilisation des rÃ©sonateurs. - une conscience de nos se
 nsations pour placer sa voix, la garder en bonne santÃ©, pour nous sen
 tir vibrer et ainsi faire vibrer lâ€™autre. - une bonne Ã©coute de soi
 , nÃ©cessaire avant toute transformation. Â  Avec le son, peuvent Ãªtr
 e rÃ©veillÃ©s des souvenirs agrÃ©ables mais aussi nos mÃ©moires invali
 dantes du passÃ© dues Ã  des traumatismes qui ont laissÃ© leurs traces
  dans notre corps. Si ces mÃ©moires sont rÃ©activÃ©es, une rÃ©gulation
  du systÃ¨me nerveux sera proposÃ©e pour retrouver la sÃ©curitÃ© et po
 ursuivre le voyage au sein de sa propre voix(voie) dans la tranquillit
 Ã© Â  Objectifs de lâ€™atelierÂ :\n\ndÃ©couvrir la richesse de lâ€™out
 il dâ€™unitÃ© de soi que nous possÃ©donsÂ : la voix, en mÃªme temps qu
 e sa sensation vibratoire.\namÃ©liorer la relation Ã  notre corps, Ã  
 nous-mÃªmes et aux autresâ€¦.notre concentration.\ntrouver son propre 
 timbre avec un bon Ã©quilibre des harmoniques pour garder une bonne sa
 ntÃ© vocale et Ãªtre Â«Â entenduÂ Â».\nsâ€™accueillir dans ce qui est 
 vÃ©cu au moment prÃ©sent, et mettre en conscience quand le jugement ar
 rive et accÃ©der Ã  la bienveillance\noserÂ sâ€™exprimer et Ãªtre ente
 ndu dans lâ€™intime de sa voix, Ãªtre dans la prÃ©sence\navoir confian
 ce en ses possibilitÃ©s vocales, et accÃ©der au plaisir d'exprimer\n\n
 Â  MÃªme si vous croyez que vous chantez mal ou que vous nâ€™avez pas 
 de voix, je vous invite Ã  venir dÃ©couvrir la richesse de votreÂ Â vo
 ix,Â et Ã  dÃ©passer Â vos limites inconscientes pour vous remplir, et
  vous permettre deÂ  donnerÂ et recevoir, Ãªtre dans le lienâ€¦â€¦ Auc
 une connaissance musicale nâ€™est nÃ©cessaire.\n\nD'autres stages sont
  proposÃ©s Ã  Paris, dans le 44, Ã  Clisson\n Nombre de placesÂ  limit
 Ã© Ã  6\nAvec Bernadette Geay, chanteuse lyrique, professeur de chant,
  chef de chÅ“ur et psychopraticienneÂ \n\n\n\nPour plus d'information,
  aller sur https://epanews.fr/events/stage-trouver-sa-voix
DTSTART;TZID=Europe/Paris:20200229T000000
DTEND;TZID=Europe/Paris:20200301T235900
CATEGORIES:17
LOCATION:Nieul les Saintes
WEBSITE:
URL:
CONTACT:06 20 79 58 35
ORGANIZER;CN=essentiel:https://epanews.fr/profile/essentiel
ATTACH;FMTTYPE="image/jpeg":https://storage.ning.com/topology/rest/1.0
 /file/get/3830750118?profile=original
ATTENDEE;ROLE=REQ-PARTICIPANT;PARTSTAT=ACCEPTED;RSVP=TRUE;CN=essentiel
 :https://epanews.fr/profile/essentiel
END:VEVENT
END:VCALENDAR
