BEGIN:VCALENDAR
PRODID:NingEventWidget-v1
VERSION:2.0
METHOD:PUBLISH
BEGIN:VTIMEZONE
TZID:Europe/Paris
X-LIC-LOCATION:Europe/Paris
BEGIN:DAYLIGHT
TZOFFSETFROM:+0100
TZOFFSETTO:+0200
TZNAME:CEST
DTSTART:19700329T020000
RRULE:FREQ=YEARLY;BYMONTH=3;BYDAY=-1SU
END:DAYLIGHT
BEGIN:STANDARD
TZOFFSETFROM:+0200
TZOFFSETTO:+0100
TZNAME:CET
DTSTART:19701025T030000
RRULE:FREQ=YEARLY;BYMONTH=10;BYDAY=-1SU
END:STANDARD
END:VTIMEZONE
BEGIN:VEVENT
UID:2485226:Event:2708445
DTSTAMP:20260422T064803Z
SUMMARY:Stage tribal mixte
DESCRIPTION:Le temps n'est-il pas lÃ  d'avancer ensemble femmes et hom
 mes\ndans un beau chemin respectueux, joyeux et ouvert ?\nD'accueillir
  et de s'accueillir dans nos forces et nos vulnÃ©rabilitÃ©s afin dâ€™Å
 “uvrer ensemble Ã  l'Ã©closion\nd'une belle humanitÃ© de cÅ“ur ?\nDe s
 'Ã©veiller, tout simplement et profondÃ©ment Ã  notre joie d'Ãªtre, Ã 
  l'amour pour nous-m'aime et les\nautres, de partager notre crÃ©ativit
 Ã©, nos rires, nos pleurs, nos pardons, nos rÃ©conciliations, nos rÃªv
 es,\nnos complicitÃ©s, notre folie douce ...... ?\nDe co-apprendre de 
 nos sensibilitÃ©s et forces similaires et complÃ©mentaires ?\nGuidÃ© p
 ar Trois Femmes \"MÃ©decine\"\nC'est avec une immense joie que nous vo
 us proposons une alliance de nos mÃ©decines Ã©nergÃ©tiques d'Ã©veil et
  de guÃ©rison (chamanisme, art thÃ©rapie, mÃ©decine du \"coyote\" ou \
 "mÃ©decine de l'insoupÃ§onnÃ©\", pratiques corporelles ....) pour accu
 eillir et rÃ©veiller le fÃ©minin et le masculin sauvages ou sacrÃ©s lo
 vÃ©s au plus profond de votre cÅ“ur, de votre ventre, de votre esprit 
 et de votre Ã¢me.\nTel un voyage Ã  la rencontre de nous m'aime et de 
 nos sÅ“urs et frÃ¨res de cÅ“ur, nous vous proposons un temps de pause 
 loin de votre quotidien pour vous laisser vous dÃ©poser telle que vous
  Etes, en toute bienveillance et confiance dans les bras chal'heureux 
 d'un clan de femmes et d'hommes unis par cet irrÃ©sistible appel du rÃ
 ©veil de la femme \"sauvage\" et de l'homme \"sauvage\".\nCette tribu 
 Ã©phÃ©mÃ¨re accueillera au maximum 10 femmes et hommes, nous vous dema
 ndons d'envoyerun mail pour vous assurer qu'il reste des places dispon
 ibles.\nÂ Un aperÃ§u du lieu de vie pendant vos six joursÂ \nhttp://ww
 w.lapichardiere.com/index.html\nPour vous permettre de poser tranquill
 ement votre lieu de vie personnel, vous Ãªtes les bienvenu'es Ã  parti
 r de 17 h 00\nÂ \nLe dÃ©part du lieu est prÃ©vu dans la matinÃ©e du sa
 medi 29 octobre\nÂ \nFrais d'HÃ©bergement :Â \n27â‚¬ par nuitÃ©e (avec
  petit dÃ©jeuner)\nDraps et serviettes de toilette non fournis\nÂ \nLe
 s repasÂ \nUne cuisiniÃ¨re nous fournira des repas bios vÃ©gÃ©tariens 
 midi et soir Ã  7â‚¬ le repas\n(cuisine avec des produits frais, plat 
 unique complet)\nÂ \nLa participation financiÃ¨re pour les trois anim'
 matrices est de 350 â‚¬\nÂ \nLa rÃ©servation sera effective aprÃ¨s rÃ©
 ception de votre inscription accompagnÃ©e d'un chÃ¨que de 80 â‚¬\nÂ \n
 Ã  l'adresse Rozenn Barronet - 20 rue Lender - 56100 Lorient\nÂ \n\nPo
 ur plus d'information, aller sur https://epanews.fr/events/stage-triba
 l-mixte
DTSTART;TZID=Europe/Paris:20161023T200000
DTEND;TZID=Europe/Paris:20161029T100000
CATEGORIES:44
LOCATION:Gite dela pichardiÃ¨re Abbaretz
WEBSITE:http://www.lapichardiere.com/
URL:http://www.lapichardiere.com/
CONTACT:06 75 61 68 86
ORGANIZER;CN=gaianata:https://epanews.fr/profile/pachagaia
ATTACH;FMTTYPE="image/jpeg":http://storage.ning.com/topology/rest/1.0/
 file/get/1663602184?profile=original
ATTENDEE;ROLE=REQ-PARTICIPANT;PARTSTAT=ACCEPTED;RSVP=TRUE;CN=gaianata:
 https://epanews.fr/profile/pachagaia
END:VEVENT
END:VCALENDAR
