BEGIN:VCALENDAR
PRODID:NingEventWidget-v1
VERSION:2.0
METHOD:PUBLISH
BEGIN:VTIMEZONE
TZID:Europe/Paris
X-LIC-LOCATION:Europe/Paris
BEGIN:DAYLIGHT
TZOFFSETFROM:+0100
TZOFFSETTO:+0200
TZNAME:CEST
DTSTART:19700329T020000
RRULE:FREQ=YEARLY;BYMONTH=3;BYDAY=-1SU
END:DAYLIGHT
BEGIN:STANDARD
TZOFFSETFROM:+0200
TZOFFSETTO:+0100
TZNAME:CET
DTSTART:19701025T030000
RRULE:FREQ=YEARLY;BYMONTH=10;BYDAY=-1SU
END:STANDARD
END:VTIMEZONE
BEGIN:VEVENT
UID:2485226:Event:628131
DTSTAMP:20260422T060737Z
SUMMARY:stage thÃ©rapie par le rire
DESCRIPTION:vous Ãªtes stressÃ©, dÃ©primÃ©, manque d'enthousiasme, ven
 ez essayer ce stage, bÃ©nÃ©fique pour votre santÃ©. Le stage est animÃ
 © par Antoine Rogani, prÃ©sident de l'association \"rire et santÃ©\", 
 auteur d'ouvrages et du magazine du mÃªme nom. Â Le stage est prÃ©cÃ©d
 Ã© la veille d'une confÃ©rence de 1h (16-17h) ouverte Ã  tous au prix 
 de 5 euros .Prix stage+confÃ©rence : 60 euros individuel, couple : 100
  euros. contact : Monique 0667150373\n\nPour plus d'information, aller
  sur https://epanews.fr/events/stage-th-rapie-par-le-rire
DTSTART;TZID=Europe/Paris:20120219T000000
DTEND;TZID=Europe/Paris:20120219T235900
CATEGORIES:83
LOCATION:TOULON
WEBSITE:
URL:
CONTACT:06 67 15 03 73
ORGANIZER;CN="Monique Estienne":https://epanews.fr/profile/MoniqueEsti
 enne
ATTACH;FMTTYPE="image/jpeg":
ATTENDEE;ROLE=REQ-PARTICIPANT;PARTSTAT=ACCEPTED;RSVP=TRUE;CN="Monique 
 Estienne":https://epanews.fr/profile/MoniqueEstienne
END:VEVENT
END:VCALENDAR
