BEGIN:VCALENDAR
PRODID:NingEventWidget-v1
VERSION:2.0
METHOD:PUBLISH
BEGIN:VTIMEZONE
TZID:Europe/Paris
X-LIC-LOCATION:Europe/Paris
BEGIN:DAYLIGHT
TZOFFSETFROM:+0100
TZOFFSETTO:+0200
TZNAME:CEST
DTSTART:19700329T020000
RRULE:FREQ=YEARLY;BYMONTH=3;BYDAY=-1SU
END:DAYLIGHT
BEGIN:STANDARD
TZOFFSETFROM:+0200
TZOFFSETTO:+0100
TZNAME:CET
DTSTART:19701025T030000
RRULE:FREQ=YEARLY;BYMONTH=10;BYDAY=-1SU
END:STANDARD
END:VTIMEZONE
BEGIN:VEVENT
UID:2485226:Event:3005324
DTSTAMP:20260423T165313Z
SUMMARY:Stage Tarot - Tirage du grand jeu
DESCRIPTION:Jean-Marc vous propose sur ces deux jours dâ€™apprendre â€
 śle tirage du grand jeuâ€ť. Ce tirage astrologique vous conduira Ă  et
 udier les douze maisons astrales, et par un systĂ¨me de renvois Ă  eta
 blir une interprĂ©tation fiable entre les lames du tarot et le domaine
  dans lequel elles sâ€™expriment.\n Ce stage nĂ©cessite la connaissanc
 e du tarot dâ€™Oswald Wirth.\n 120 Euros le Week-end - DurĂ©e 12 h\nPl
 us d'informations et inscription : www.lesjardinsdelaserenite.com\n\nP
 our plus d'information, aller sur https://epanews.fr/events/stage-taro
 t-tirage-du-grand-jeu
DTSTART;TZID=Europe/Paris:20190504T130000
DTEND;TZID=Europe/Paris:20190505T170000
CATEGORIES:83
LOCATION:K-Dance Studio
WEBSITE:http://www.lesjardinsdelaserenite.com
URL:http://www.lesjardinsdelaserenite.com
CONTACT:0603104240
ORGANIZER;CN="Les jardins de la SĂ©rĂ©nitĂ©":https://epanews.fr/profil
 e/ChevalGenet
ATTACH;FMTTYPE="image/jpeg":https://storage.ning.com/topology/rest/1.0
 /file/get/755737968?profile=original
ATTENDEE;ROLE=REQ-PARTICIPANT;PARTSTAT=ACCEPTED;RSVP=TRUE;CN="Les jard
 ins de la SĂ©rĂ©nitĂ©":https://epanews.fr/profile/ChevalGenet
END:VEVENT
END:VCALENDAR
