BEGIN:VCALENDAR
PRODID:NingEventWidget-v1
VERSION:2.0
METHOD:PUBLISH
BEGIN:VTIMEZONE
TZID:Europe/Paris
X-LIC-LOCATION:Europe/Paris
BEGIN:DAYLIGHT
TZOFFSETFROM:+0100
TZOFFSETTO:+0200
TZNAME:CEST
DTSTART:19700329T020000
RRULE:FREQ=YEARLY;BYMONTH=3;BYDAY=-1SU
END:DAYLIGHT
BEGIN:STANDARD
TZOFFSETFROM:+0200
TZOFFSETTO:+0100
TZNAME:CET
DTSTART:19701025T030000
RRULE:FREQ=YEARLY;BYMONTH=10;BYDAY=-1SU
END:STANDARD
END:VTIMEZONE
BEGIN:VEVENT
UID:2485226:Event:2913345
DTSTAMP:20260420T063549Z
SUMMARY:Stage Tarot initiatique
DESCRIPTION:Animé par Jean Marc GENET, ce stage autour des 22 arcanes
  majeurs du tarot D'Oswald Wirth est l'occasion de faire ce parcours 
 initiatique proposé par le bateleur et d'étudier l'aspect symboliqu
 e et philosophique de ces lames aux pouvoirs incroyables. La valeur s
 ymbolique de ces 22 arcanes ont en effet la capacité de reconnecter n
 otre conscient et notre inconscient, car n'oublions pas : \"toutes les
  réponses sont toujours en nous..\nPlus d'infos sur le site : www.le
 sjardinsdelaserenite.com\n\nPour plus d'information, aller sur https:/
 /epanews.fr/events/stage-tarot-initiatique
DTSTART;TZID=Europe/Paris:20180805T140000
DTEND;TZID=Europe/Paris:20180811T000000
CATEGORIES:portugal
LOCATION:Cernache do Bonjardim
WEBSITE:http://www.lesjardinsdelaserenite.com
URL:http://www.lesjardinsdelaserenite.com
CONTACT:
ORGANIZER:Les jardins de la sérénité
ATTACH;FMTTYPE="image/jpeg":http://storage.ning.com/topology/rest/1.0/
 file/get/1663707845?profile=original
ATTENDEE;ROLE=REQ-PARTICIPANT;PARTSTAT=ACCEPTED;RSVP=TRUE;CN="Les jard
 ins de la Sérénité":https://epanews.fr/profile/ChevalGenet
END:VEVENT
END:VCALENDAR
