BEGIN:VCALENDAR
PRODID:NingEventWidget-v1
VERSION:2.0
METHOD:PUBLISH
BEGIN:VTIMEZONE
TZID:Europe/Paris
X-LIC-LOCATION:Europe/Paris
BEGIN:DAYLIGHT
TZOFFSETFROM:+0100
TZOFFSETTO:+0200
TZNAME:CEST
DTSTART:19700329T020000
RRULE:FREQ=YEARLY;BYMONTH=3;BYDAY=-1SU
END:DAYLIGHT
BEGIN:STANDARD
TZOFFSETFROM:+0200
TZOFFSETTO:+0100
TZNAME:CET
DTSTART:19701025T030000
RRULE:FREQ=YEARLY;BYMONTH=10;BYDAY=-1SU
END:STANDARD
END:VTIMEZONE
BEGIN:VEVENT
UID:2485226:Event:868141
DTSTAMP:20260422T134054Z
SUMMARY:Stage tantra  TEC4 tissage en conscience
DESCRIPTION:L'été s'installe en nous et dans nos cœurs, nous t'invi
 tons  pour ce quatrième stage de notre cycle de Tissage en Conscienc
 e TCE 4  à venir explorer cette énergie du cœur dans ta vie et dan
 s tes relations amoureuses.  Viens découvrir ou redécouvrir le Tant
 ra  dans un cadre privilégié du sud de l'Ardèche , profites en mê
 me temps de la nature, de la rivière (Chassezac) et de te ressourcer 
 ,  Fais évoluer ton corps et tes relations avec les autres en toute 
 sécurité \nNous célébrerons en petit groupe (10 à 12 personnes)
  cette rencontre privilégiée autour  de l'énergie du cœur à Grav
 ières (à coté des Vans),à partir du vendredi à 20h00  jusqu'au d
 imanche à 18h00.\n\nPour plus d'information, aller sur https://epanew
 s.fr/events/stage-tantra-tec4-tissage-en-conscience
DTSTART;TZID=Europe/Paris:20120629T200000
DTEND;TZID=Europe/Paris:20120701T180000
CATEGORIES:07
LOCATION:A coté des Vans dans le sud de l'Ardèche
WEBSITE:
URL:
CONTACT:06 86 98 37 66
ORGANIZER;CN=Bob:https://epanews.fr/profile/RobertCP
ATTACH;FMTTYPE="image/jpeg":http://storage.ning.com/topology/rest/1.0/
 file/get/1662626369?profile=original
ATTENDEE;ROLE=REQ-PARTICIPANT;PARTSTAT=ACCEPTED;RSVP=TRUE;CN=Bob:https
 ://epanews.fr/profile/RobertCP
END:VEVENT
END:VCALENDAR
