BEGIN:VCALENDAR
PRODID:NingEventWidget-v1
VERSION:2.0
METHOD:PUBLISH
BEGIN:VTIMEZONE
TZID:Europe/Paris
X-LIC-LOCATION:Europe/Paris
BEGIN:DAYLIGHT
TZOFFSETFROM:+0100
TZOFFSETTO:+0200
TZNAME:CEST
DTSTART:19700329T020000
RRULE:FREQ=YEARLY;BYMONTH=3;BYDAY=-1SU
END:DAYLIGHT
BEGIN:STANDARD
TZOFFSETFROM:+0200
TZOFFSETTO:+0100
TZNAME:CET
DTSTART:19701025T030000
RRULE:FREQ=YEARLY;BYMONTH=10;BYDAY=-1SU
END:STANDARD
END:VTIMEZONE
BEGIN:VEVENT
UID:2485226:Event:740312
DTSTAMP:20260421T143939Z
SUMMARY:Stage Tantra : \"La guérison du féminin ou l'appel de la Dé
 esse\"
DESCRIPTION:La sororité générée par Diane et son archétype pour :
  Accompagner la guérison des blessures intimes du féminin. Dévoiler
 , incarner la vérité du Féminin sacré, à travers les déesses gre
 cques. Jouer avec ses démones et les déjouer tendrement. Retrouver b
 eauté, passion, puissance et mystère dans son corps de femme. Se la
 isser inspirer par le mystère des rituels de la Déesse. Réveiller l
 a joie douce, la magie pure d'être Femme.Lire la suite...\n\nPour pl
 us d'information, aller sur https://epanews.fr/events/stage-tantra-la-
 gu-rison-du-f-minin-ou-l-appel-de-la-d-esse
DTSTART;TZID=Europe/Paris:20120805T180000
DTEND;TZID=Europe/Paris:20120811T190000
CATEGORIES:26
LOCATION:Rochebrune
WEBSITE:http://tantradianebellego.com/projet/357
URL:http://tantradianebellego.com/projet/357
CONTACT:01 42 38 20 30 / 06 76 74 35 10
ORGANIZER;CN="Tantra de la Réconciliation":https://epanews.fr/profile
 /TantradelaReconciliation
ATTACH;FMTTYPE="image/jpeg":http://storage.ning.com/topology/rest/1.0/
 file/get/1662576551?profile=original
ATTENDEE;ROLE=REQ-PARTICIPANT;PARTSTAT=ACCEPTED;RSVP=TRUE;CN="Tantra d
 e la Réconciliation":https://epanews.fr/profile/TantradelaReconciliat
 ion
ATTENDEE;ROLE=REQ-PARTICIPANT;PARTSTAT=TENTATIVE;RSVP=TRUE;CN=michelle
 :https://epanews.fr/profile/rebel
END:VEVENT
END:VCALENDAR
