BEGIN:VCALENDAR
PRODID:NingEventWidget-v1
VERSION:2.0
METHOD:PUBLISH
BEGIN:VTIMEZONE
TZID:Europe/Paris
X-LIC-LOCATION:Europe/Paris
BEGIN:DAYLIGHT
TZOFFSETFROM:+0100
TZOFFSETTO:+0200
TZNAME:CEST
DTSTART:19700329T020000
RRULE:FREQ=YEARLY;BYMONTH=3;BYDAY=-1SU
END:DAYLIGHT
BEGIN:STANDARD
TZOFFSETFROM:+0200
TZOFFSETTO:+0100
TZNAME:CET
DTSTART:19701025T030000
RRULE:FREQ=YEARLY;BYMONTH=10;BYDAY=-1SU
END:STANDARD
END:VTIMEZONE
BEGIN:VEVENT
UID:2485226:Event:2213650
DTSTAMP:20260426T042213Z
SUMMARY:Stage Tantra Initiation et massages
DESCRIPTION:Pour le week-end de la Saint Valentin, nous t'invitons à 
 venir découvrir et redécouvrir l'énergie du Tantra. Au cœur de la 
 nature ardéchoise, vous serez entouré(e)s de douceur, de tendresse 
  et vous pourrez évoluer en toute quiétude et à votre rythme en alt
 ernant des exercices de méditation, de massage, de Tantra et d’éve
 il des sens….\n\nPour plus d'information, aller sur https://epanews.
 fr/events/stage-tantra-initiation-et-massages
DTSTART;TZID=Europe/Paris:20150213T200000
DTEND;TZID=Europe/Paris:20150215T180000
CATEGORIES:07
LOCATION:Mas Channac
WEBSITE:http://www.etre-en-chemin.com
URL:http://www.etre-en-chemin.com
CONTACT:06 86 98 37 66 / 04 75 89 94 12
ORGANIZER;CN=Bob:https://epanews.fr/profile/RobertCP
ATTACH;FMTTYPE="image/jpeg":http://storage.ning.com/topology/rest/1.0/
 file/get/1663318992?profile=original
ATTENDEE;ROLE=REQ-PARTICIPANT;PARTSTAT=ACCEPTED;RSVP=TRUE;CN=Bob:https
 ://epanews.fr/profile/RobertCP
END:VEVENT
END:VCALENDAR
