BEGIN:VCALENDAR
PRODID:NingEventWidget-v1
VERSION:2.0
METHOD:PUBLISH
BEGIN:VTIMEZONE
TZID:Europe/Paris
X-LIC-LOCATION:Europe/Paris
BEGIN:DAYLIGHT
TZOFFSETFROM:+0100
TZOFFSETTO:+0200
TZNAME:CEST
DTSTART:19700329T020000
RRULE:FREQ=YEARLY;BYMONTH=3;BYDAY=-1SU
END:DAYLIGHT
BEGIN:STANDARD
TZOFFSETFROM:+0200
TZOFFSETTO:+0100
TZNAME:CET
DTSTART:19701025T030000
RRULE:FREQ=YEARLY;BYMONTH=10;BYDAY=-1SU
END:STANDARD
END:VTIMEZONE
BEGIN:VEVENT
UID:2485226:Event:1144389
DTSTAMP:20260421T213303Z
SUMMARY:Stage Tantra  à Saint-Martin-Vésubie (06)
DESCRIPTION:STAGE TANTRA  Stage ouvert aux débutant(e)s, initié(e)s
 , célibataires et couples. Le Tantra est un chemin spirituel qui se s
 itue profondément dans l'expérience. C'est le langage de l'amour, u
 n partage de coeur à cœur qui nous éveille à nos sens, porte de l
 'Ici et Maintenant, espace de silence et de paix intérieure. \nC'est
  aussi découvrir et explorer, d'une manière légère et nourrissante
 , un chemin vers la méditation.  En nous retrouvant nous-mêmes, nous
  pouvons alors nous ouvrir à notre énergie à celle des autres et à
  tout ce qui nous entoure, dans une dimension de conscience, de respon
 sabilité, d'amour de soi et des autres.\nLieu : l'adresse exacte vous
  sera communiquée lors de votre inscription.\nHébergement : Prix mod
 ique.\nRepas : Apporter 3 plats à partager de préférence nourriture
  végétarienne et quatre petits déjeuners personnels. Prix du stage 
 : 280€. Pour les adhérents d'Epanews 250€ Renseignements et inscr
 iptions : 06 86 64 23 79 - 04 94 86 67 98.\n\nPour plus d'information,
  aller sur https://epanews.fr/events/stage-tantra-avanc-saint-martin-v
 -subie-06
DTSTART;TZID=Europe/Paris:20130509T100000
DTEND;TZID=Europe/Paris:20130512T170000
CATEGORIES:83, 13, 06
LOCATION:Saint Martin Vésubie (06)
WEBSITE:http://lesfleursdelotus.com
URL:http://lesfleursdelotus.com
CONTACT:06 86 64 23 79
ORGANIZER;CN=Arshi:https://epanews.fr/profile/Arshi
ATTACH;FMTTYPE="image/jpeg":http://storage.ning.com/topology/rest/1.0/
 file/get/1662634429?profile=original
ATTENDEE;ROLE=REQ-PARTICIPANT;PARTSTAT=ACCEPTED;RSVP=TRUE;CN=Arshi:htt
 ps://epanews.fr/profile/Arshi
END:VEVENT
END:VCALENDAR
