BEGIN:VCALENDAR
PRODID:NingEventWidget-v1
VERSION:2.0
METHOD:PUBLISH
BEGIN:VTIMEZONE
TZID:Europe/Paris
X-LIC-LOCATION:Europe/Paris
BEGIN:DAYLIGHT
TZOFFSETFROM:+0100
TZOFFSETTO:+0200
TZNAME:CEST
DTSTART:19700329T020000
RRULE:FREQ=YEARLY;BYMONTH=3;BYDAY=-1SU
END:DAYLIGHT
BEGIN:STANDARD
TZOFFSETFROM:+0200
TZOFFSETTO:+0100
TZNAME:CET
DTSTART:19701025T030000
RRULE:FREQ=YEARLY;BYMONTH=10;BYDAY=-1SU
END:STANDARD
END:VTIMEZONE
BEGIN:VEVENT
UID:2485226:Event:2564844
DTSTAMP:20260421T150219Z
SUMMARY:Stage Tantra
DESCRIPTION:Il reste 1 place disponible pour 1 femme avec exceptionnel
 lement une participation libre  Si vous êtes intéressée,  merci de 
 contacter le 06 86 64 23 79 pour retenir votre place et recevoir les i
 nformations pratiques.\nLe Tantra est un chemin spirituel qui se situe
  profondément dans l'expérience. C'est le langage de l'amour, un pa
 rtage de coeur à cœur où la personne est accueillie dans sa totalit
 é. C'est découvrir et explorer d'une manière légère et nourrissan
 te, un chemin vers la méditation. En nous retrouvant nous-mêmes, nou
 s pouvons alors nous ouvrir à notre énergie et à celle des autres, 
 dans une dimension de conscience, de responsabilité, d'amour de soi e
 t des autres.  Site : lesfleursdelotus.com\n\nPour plus d'information,
  aller sur https://epanews.fr/events/stage-tantra-2
DTSTART;TZID=Europe/Paris:20160123T100000
DTEND;TZID=Europe/Paris:20160124T170000
CATEGORIES:06, 83, 13
LOCATION:Biot (06)
WEBSITE:http://lesfleursdelotus.com
URL:http://lesfleursdelotus.com
CONTACT:0686642379
ORGANIZER;CN=Arshi:https://epanews.fr/profile/Arshi
ATTACH;FMTTYPE="image/jpeg":http://storage.ning.com/topology/rest/1.0/
 file/get/1663518519?profile=original
ATTENDEE;ROLE=REQ-PARTICIPANT;PARTSTAT=ACCEPTED;RSVP=TRUE;CN=Arshi:htt
 ps://epanews.fr/profile/Arshi
END:VEVENT
END:VCALENDAR
