BEGIN:VCALENDAR
PRODID:NingEventWidget-v1
VERSION:2.0
METHOD:PUBLISH
BEGIN:VTIMEZONE
TZID:Europe/Paris
X-LIC-LOCATION:Europe/Paris
BEGIN:DAYLIGHT
TZOFFSETFROM:+0100
TZOFFSETTO:+0200
TZNAME:CEST
DTSTART:19700329T020000
RRULE:FREQ=YEARLY;BYMONTH=3;BYDAY=-1SU
END:DAYLIGHT
BEGIN:STANDARD
TZOFFSETFROM:+0200
TZOFFSETTO:+0100
TZNAME:CET
DTSTART:19701025T030000
RRULE:FREQ=YEARLY;BYMONTH=10;BYDAY=-1SU
END:STANDARD
END:VTIMEZONE
BEGIN:VEVENT
UID:2485226:Event:803258
DTSTAMP:20260422T011037Z
SUMMARY:Stage sur la culture en système verger-potager (coppice-orcha
 rd )
DESCRIPTION:Bonjour,\nJe relaie (je n'organise pas) une information co
 ncernant un stage portant sur la conception de verger-potager - ou for
 êt-jardin -, avec Phill Corbett (une référence mondiale dans ce dom
 aine). Le stage se déroule en Bretagne, sur 2 jours.\nLe lien: http:/
 /ce-week-end.info/idees-we-par-theme/detailevenement/138/89/conception
 -du-systeme-verger-potager-en-bretagne\n\nPour plus d'information, all
 er sur https://epanews.fr/events/stage-sur-la-culture-en-syst-me-verge
 r-potager-coppice-orchard
DTSTART;TZID=Europe/Paris:20120519T180000
DTEND;TZID=Europe/Paris:20120520T190000
CATEGORIES:22
LOCATION:22310 Plufur
WEBSITE:
URL:
CONTACT:
ORGANIZER:
ATTACH;FMTTYPE="image/jpeg":
ATTENDEE;ROLE=REQ-PARTICIPANT;PARTSTAT=ACCEPTED;RSVP=TRUE;CN=crapouill
 e:https://epanews.fr/profile/crapouille
END:VEVENT
END:VCALENDAR
