BEGIN:VCALENDAR
PRODID:NingEventWidget-v1
VERSION:2.0
METHOD:PUBLISH
BEGIN:VTIMEZONE
TZID:Europe/Paris
X-LIC-LOCATION:Europe/Paris
BEGIN:DAYLIGHT
TZOFFSETFROM:+0100
TZOFFSETTO:+0200
TZNAME:CEST
DTSTART:19700329T020000
RRULE:FREQ=YEARLY;BYMONTH=3;BYDAY=-1SU
END:DAYLIGHT
BEGIN:STANDARD
TZOFFSETFROM:+0200
TZOFFSETTO:+0100
TZNAME:CET
DTSTART:19701025T030000
RRULE:FREQ=YEARLY;BYMONTH=10;BYDAY=-1SU
END:STANDARD
END:VTIMEZONE
BEGIN:VEVENT
UID:2485226:Event:1330492
DTSTAMP:20260422T051404Z
SUMMARY:Stage Souffle et Voix
DESCRIPTION:Ce n'est pas une sortie que je vous propose en ce printemp
 s, mais c'est un voyage au pays du Souffle libre...\nDécouvrir non pa
 s une nouvelle technique respiratoire, mais des mouvement simples qui 
 redonnent place à l'espace intérieur en dénouant les noeuds causés
  par une accumulation de stress.\nDécouvrir son propre potentiel par 
 la libération du mouvement respiratoire.\nRESPIRER et se sentir plus 
 calme, plus apte à vivre sa vie !\n\nPour plus d'information, aller s
 ur https://epanews.fr/events/stage-souffle-et-voix
DTSTART;TZID=Europe/Paris:20130511T140000
DTEND;TZID=Europe/Paris:20130511T170000
CATEGORIES:05
LOCATION:GAP
WEBSITE:
URL:
CONTACT:04 92 35 57 49
ORGANIZER;CN=brijt:https://epanews.fr/profile/brijt
ATTACH;FMTTYPE="image/jpeg":
ATTENDEE;ROLE=REQ-PARTICIPANT;PARTSTAT=ACCEPTED;RSVP=TRUE;CN=brijt:htt
 ps://epanews.fr/profile/brijt
END:VEVENT
END:VCALENDAR
