BEGIN:VCALENDAR
PRODID:NingEventWidget-v1
VERSION:2.0
METHOD:PUBLISH
BEGIN:VTIMEZONE
TZID:Europe/Paris
X-LIC-LOCATION:Europe/Paris
BEGIN:DAYLIGHT
TZOFFSETFROM:+0100
TZOFFSETTO:+0200
TZNAME:CEST
DTSTART:19700329T020000
RRULE:FREQ=YEARLY;BYMONTH=3;BYDAY=-1SU
END:DAYLIGHT
BEGIN:STANDARD
TZOFFSETFROM:+0200
TZOFFSETTO:+0100
TZNAME:CET
DTSTART:19701025T030000
RRULE:FREQ=YEARLY;BYMONTH=10;BYDAY=-1SU
END:STANDARD
END:VTIMEZONE
BEGIN:VEVENT
UID:2485226:Event:52387
DTSTAMP:20260419T181717Z
SUMMARY:stage shiro abhyanga & massage ayurvÃ©dique d'Inde du Nord
DESCRIPTION:1) massage traditionnel du corps Ã  l'huile et au sol, c' 
 est une pratique ancestrale de la mÃ©decine ayurvÃ©dique d'inde du nor
 d. Il permet en autre, d'harmoniser les fonctions vitales du corps grÃ
 ¢ce Ã  une approche inÃ©dite.Vous pratiquerez les techniques de bases 
 tel que le pÃ©trissage, frictions et percussions...\n2) massage tradit
 ionnel du cou, des Ã©paules et de la tÃªte. Il procure une dÃ©tente pr
 ofonde et agit directement sur le systÃ¨me nerveux, bÃ©nÃ©fique pour l
 a gestion du stress et favorise un sommeil rÃ©parateur.\n\nPour plus d
 'information, aller sur https://epanews.fr/events/stage-shiro-abhyanga
 -massage
DTSTART;TZID=Europe/Paris:20100527T000000
DTEND;TZID=Europe/Paris:20100531T235900
CATEGORIES:06
LOCATION:CENTRE YOGA DU PORT
WEBSITE:http://www.yogsansara.com
URL:http://www.yogsansara.com
CONTACT:04 93 89 51 43 / 06 73 76 60 13
ORGANIZER;CN=yogsansara:https://epanews.fr/profile/yogsansara
ATTACH;FMTTYPE="image/jpeg":
ATTENDEE;ROLE=REQ-PARTICIPANT;PARTSTAT=ACCEPTED;RSVP=TRUE;CN=yogsansar
 a:https://epanews.fr/profile/yogsansara
END:VEVENT
END:VCALENDAR
