BEGIN:VCALENDAR
PRODID:NingEventWidget-v1
VERSION:2.0
METHOD:PUBLISH
BEGIN:VTIMEZONE
TZID:Europe/Paris
X-LIC-LOCATION:Europe/Paris
BEGIN:DAYLIGHT
TZOFFSETFROM:+0100
TZOFFSETTO:+0200
TZNAME:CEST
DTSTART:19700329T020000
RRULE:FREQ=YEARLY;BYMONTH=3;BYDAY=-1SU
END:DAYLIGHT
BEGIN:STANDARD
TZOFFSETFROM:+0200
TZOFFSETTO:+0100
TZNAME:CET
DTSTART:19701025T030000
RRULE:FREQ=YEARLY;BYMONTH=10;BYDAY=-1SU
END:STANDARD
END:VTIMEZONE
BEGIN:VEVENT
UID:2485226:Event:887114
DTSTAMP:20260421T155526Z
SUMMARY:Stage sexualité peurs désirs fantasmes difficultés
DESCRIPTION:Jean Rochette Psychanalyste, Psycho-Somato-Analyste, Anima
 teur de groupes depuis plus de 30 ans organise un stage à thème: SEX
 UALITE dans les vosges du 12 au 17 août dans les vosges (88).Présen
 te dès le début de la vie de l'être humain, la sexualité va se str
 ucturer très tôt au gré des expériences vécues et des évènement
 s survenus tant dans le creuset familial que dans l'espace socio-cultu
 rel où il grandit (qui définit par exemple très tôt des interdits 
 qui peuvent encore être actifs à l'âge adulte!).Les difficultés se
 xuelles que l'adulte éprouvera plus tard résultent des multiples inc
 idents (attitudes, paroles, incompréhensions des uns et des autres) s
 urvenus pendant son enfance lors e ses rapports affectifs sociaux.Ains
 i ni la connaissance de son corps, ni la compréhension de la physiolo
 gie génitale ne peuvent elles suffire à \"l'épanouissement sexuel\"
  de l'être humain.Pendant ce stage vous pourrez revisiter les zones d
 e votre sexualité infantile devenues INCONSCIENTES, les reconnaître,
  les accueillir afin qu'elles n'agissent plus dans votre vie sexuelle
  adulte à votre insu!En pratique il s'agit de vivre l'expérience du 
 lâcher-prise et de la rencontre avec soi même comme avec l'Autre au 
 moyen d 'exercices simples et puissants (seul, à deux, en groupe), e
 xercices définis en fonction de ce qui se vit dans le groupe (mise ne
  situation, psychodrame, transe, rebirth, son, souffle, mouvement, dan
 se, méditation dynamique ou silencieuse, art-thérapie et imagination
  créatrice...ces exercices étant plus ou moins confrontants, des tem
 ps de parole permettront de mettre en mots votre ressenti, votre vécu
 .PAS DE PRATIQUE SEXUELLE ACTIVE DANS CE GROUPE!Pour tous renseignemen
 ts contacter les 13 portes, 0491482991 ou 0611892034coût animation 45
 0 euros et hébergement pension complète en sus entre 55 et 65 euros/
 jour.pension complète: exceptionnellement  à 30 euros!!!491\n\nPour
  plus d'information, aller sur https://epanews.fr/events/stage-sexuali
 t-peurs-d-sirs-fantasmes-difficult-s
DTSTART;TZID=Europe/Paris:20120812T180000
DTEND;TZID=Europe/Paris:20120817T170000
CATEGORIES:88
LOCATION:Mousey
WEBSITE:
URL:
CONTACT:0491482991
ORGANIZER:Rochette jean
ATTACH;FMTTYPE="image/jpeg":
ATTENDEE;ROLE=REQ-PARTICIPANT;PARTSTAT=ACCEPTED;RSVP=TRUE;CN=GREVILLIO
 T:https://epanews.fr/profile/GREVILLIOT
END:VEVENT
END:VCALENDAR
