BEGIN:VCALENDAR
PRODID:NingEventWidget-v1
VERSION:2.0
METHOD:PUBLISH
BEGIN:VTIMEZONE
TZID:Europe/Paris
X-LIC-LOCATION:Europe/Paris
BEGIN:DAYLIGHT
TZOFFSETFROM:+0100
TZOFFSETTO:+0200
TZNAME:CEST
DTSTART:19700329T020000
RRULE:FREQ=YEARLY;BYMONTH=3;BYDAY=-1SU
END:DAYLIGHT
BEGIN:STANDARD
TZOFFSETFROM:+0200
TZOFFSETTO:+0100
TZNAME:CET
DTSTART:19701025T030000
RRULE:FREQ=YEARLY;BYMONTH=10;BYDAY=-1SU
END:STANDARD
END:VTIMEZONE
BEGIN:VEVENT
UID:2485226:Event:1965933
DTSTAMP:20260422T042928Z
SUMMARY:Stage Ressource: Médit’ action*
DESCRIPTION:Toutes les pratiques utilisant et dynamisant le souffle so
 nt dignes du plus grand intérêt. Depuis des millénaire en Qi gong, 
 on allie, le mouvement, le souffle et la pensée- intention, en préve
 ntion et pour réguler les troubles. Art du souffle, gym chinoise, Qi
  Gong interne.Méditation  de développement personnel http://wp.me/P
 3A2Eh-bP Aimeriez-vous vous ressourcer à l'ile de La Réunion ?\n\nP
 our plus d'information, aller sur https://epanews.fr/events/stage-ress
 ource-m-dit-action
DTSTART;TZID=Europe/Paris:20140713T100000
DTEND;TZID=Europe/Paris:20140714T190000
CATEGORIES:tous
LOCATION:Saint Denis La Réunion
WEBSITE:http://harmoniesantetao.com
URL:http://harmoniesantetao.com
CONTACT:0693970314
ORGANIZER;CN="Brigitte Fumagalli":https://epanews.fr/profile/fumagalli
ATTACH;FMTTYPE="image/jpeg":http://storage.ning.com/topology/rest/1.0/
 file/get/1663169612?profile=original
ATTENDEE;ROLE=REQ-PARTICIPANT;PARTSTAT=ACCEPTED;RSVP=TRUE;CN="Brigitte
  Fumagalli":https://epanews.fr/profile/fumagalli
END:VEVENT
END:VCALENDAR
