BEGIN:VCALENDAR
PRODID:NingEventWidget-v1
VERSION:2.0
METHOD:PUBLISH
BEGIN:VTIMEZONE
TZID:Europe/Paris
X-LIC-LOCATION:Europe/Paris
BEGIN:DAYLIGHT
TZOFFSETFROM:+0100
TZOFFSETTO:+0200
TZNAME:CEST
DTSTART:19700329T020000
RRULE:FREQ=YEARLY;BYMONTH=3;BYDAY=-1SU
END:DAYLIGHT
BEGIN:STANDARD
TZOFFSETFROM:+0200
TZOFFSETTO:+0100
TZNAME:CET
DTSTART:19701025T030000
RRULE:FREQ=YEARLY;BYMONTH=10;BYDAY=-1SU
END:STANDARD
END:VTIMEZONE
BEGIN:VEVENT
UID:2485226:Event:853100
DTSTAMP:20260421T062018Z
SUMMARY:Stage Reiki Usui 3 ème degré
DESCRIPTION:Un stage Reiki Usui 3 ème degré se tiendra à notre domi
 cile . Il durera toute la journée . \nRéservé à ceux qui sont en 
 possession du 2 ème degré .\nPrévoir un pique nique pour le repas d
 u midi .\nNos stages sont gratuits mais en raison des frais d'impressi
 on et de mise en page , nous demandons une participation de 25 euros 
 \nEn raison du nombre de places limité , s'inscrire par téléphone a
 u 06.82.38.12.11 (Nicole)\n\nPour plus d'information, aller sur https:
 //epanews.fr/events/stage-reiki-usui-3-me-degr
DTSTART;TZID=Europe/Paris:20121007T000000
DTEND;TZID=Europe/Paris:20121007T235900
CATEGORIES:04, 05, 13, 26, 83, 84
LOCATION:Digne les Bains
WEBSITE:
URL:
CONTACT:
ORGANIZER;CN="Nicole FOURCADE":https://epanews.fr/profile/Lhamo
ATTACH;FMTTYPE="image/jpeg":http://storage.ning.com/topology/rest/1.0/
 file/get/1662625267?profile=original
ATTENDEE;ROLE=REQ-PARTICIPANT;PARTSTAT=ACCEPTED;RSVP=TRUE;CN="Nicole F
 OURCADE":https://epanews.fr/profile/Lhamo
ATTENDEE;ROLE=REQ-PARTICIPANT;PARTSTAT=TENTATIVE;RSVP=TRUE;CN="Anne Hy
 pnose Ericksonienne":https://epanews.fr/profile/LilyLoo
END:VEVENT
END:VCALENDAR
