BEGIN:VCALENDAR
PRODID:NingEventWidget-v1
VERSION:2.0
METHOD:PUBLISH
BEGIN:VTIMEZONE
TZID:Europe/Paris
X-LIC-LOCATION:Europe/Paris
BEGIN:DAYLIGHT
TZOFFSETFROM:+0100
TZOFFSETTO:+0200
TZNAME:CEST
DTSTART:19700329T020000
RRULE:FREQ=YEARLY;BYMONTH=3;BYDAY=-1SU
END:DAYLIGHT
BEGIN:STANDARD
TZOFFSETFROM:+0200
TZOFFSETTO:+0100
TZNAME:CET
DTSTART:19701025T030000
RRULE:FREQ=YEARLY;BYMONTH=10;BYDAY=-1SU
END:STANDARD
END:VTIMEZONE
BEGIN:VEVENT
UID:2485226:Event:1039707
DTSTAMP:20260422T204055Z
SUMMARY:Stage Reiki Usui 2 ème degré gratuit le 3 février 2013
DESCRIPTION:Conditions : avoir le 1 er degré Reiki Usui .\nPrévoir u
 n pique nique pour le repas du midi \nContact : 06.82.38.12.11 Nicole
 \nEn raison de la gratuité de nos stages , nous demandons une partici
 pation de 25 euros pour les frais engagés pour l'impression du livret
 , diplome et autres frais .\n\nPour plus d'information, aller sur http
 s://epanews.fr/events/stage-reiki-usui-2-me-degr-gratuit-le-3-f-vrier-
 2012
DTSTART;TZID=Europe/Paris:20130203T000000
DTEND;TZID=Europe/Paris:20130203T235900
CATEGORIES:04, 26, 13, 83, 84, 05, 06
LOCATION:Digne les Bains 04
WEBSITE:
URL:
CONTACT:
ORGANIZER;CN="Nicole FOURCADE":https://epanews.fr/profile/Lhamo
ATTACH;FMTTYPE="image/jpeg":http://storage.ning.com/topology/rest/1.0/
 file/get/1662705442?profile=original
ATTENDEE;ROLE=REQ-PARTICIPANT;PARTSTAT=ACCEPTED;RSVP=TRUE;CN="Nicole F
 OURCADE":https://epanews.fr/profile/Lhamo
END:VEVENT
END:VCALENDAR
