BEGIN:VCALENDAR
PRODID:NingEventWidget-v1
VERSION:2.0
METHOD:PUBLISH
BEGIN:VTIMEZONE
TZID:Europe/Paris
X-LIC-LOCATION:Europe/Paris
BEGIN:DAYLIGHT
TZOFFSETFROM:+0100
TZOFFSETTO:+0200
TZNAME:CEST
DTSTART:19700329T020000
RRULE:FREQ=YEARLY;BYMONTH=3;BYDAY=-1SU
END:DAYLIGHT
BEGIN:STANDARD
TZOFFSETFROM:+0200
TZOFFSETTO:+0100
TZNAME:CET
DTSTART:19701025T030000
RRULE:FREQ=YEARLY;BYMONTH=10;BYDAY=-1SU
END:STANDARD
END:VTIMEZONE
BEGIN:VEVENT
UID:2485226:Event:598109
DTSTAMP:20260423T041754Z
SUMMARY:Stage reiki USUI 2 Ã¨me degrÃ© 4 dÃ©cembre 2011
DESCRIPTION:Stage reiki 2 Ã¨me degrÃ©\nLe stage durera toute la journÃ
 ©e . Un pique nique Ã  prÃ©voir que nous partagerons dans la bonne hum
 eur .\nÂ \nFrais de stage : 25 euros\n\nPour plus d'information, aller
  sur https://epanews.fr/events/stage-reiki-usui-2-me-degr-4-d-cembre-2
 011
DTSTART;TZID=Europe/Paris:20111204T100000
DTEND;TZID=Europe/Paris:20111204T170000
CATEGORIES:13, 26, 04, 83, 84, 06
LOCATION:Digne Les Bains 
WEBSITE:
URL:
CONTACT:06.82.38.12.11
ORGANIZER;CN="Nicole FOURCADE":https://epanews.fr/profile/Lhamo
ATTACH;FMTTYPE="image/jpeg":http://storage.ning.com/topology/rest/1.0/
 file/get/1662497214?profile=original
ATTENDEE;ROLE=REQ-PARTICIPANT;PARTSTAT=ACCEPTED;RSVP=TRUE;CN="Nicole F
 OURCADE":https://epanews.fr/profile/Lhamo
END:VEVENT
END:VCALENDAR
