BEGIN:VCALENDAR
PRODID:NingEventWidget-v1
VERSION:2.0
METHOD:PUBLISH
BEGIN:VTIMEZONE
TZID:Europe/Paris
X-LIC-LOCATION:Europe/Paris
BEGIN:DAYLIGHT
TZOFFSETFROM:+0100
TZOFFSETTO:+0200
TZNAME:CEST
DTSTART:19700329T020000
RRULE:FREQ=YEARLY;BYMONTH=3;BYDAY=-1SU
END:DAYLIGHT
BEGIN:STANDARD
TZOFFSETFROM:+0200
TZOFFSETTO:+0100
TZNAME:CET
DTSTART:19701025T030000
RRULE:FREQ=YEARLY;BYMONTH=10;BYDAY=-1SU
END:STANDARD
END:VTIMEZONE
BEGIN:VEVENT
UID:2485226:Event:2871857
DTSTAMP:20260421T235039Z
SUMMARY:Stage Reiki Usui 1 er degré
DESCRIPTION:\nReiki 1 er degré Usui \nCoût du stage 160 euros \nte
 l : 06.82.38.12.11 OU \nMail : energiedureiki04@gmail.com\n\nPour plu
 s d'information, aller sur https://epanews.fr/events/stage-reiki-usui-
 1-er-degr-4
DTSTART;TZID=Europe/Paris:20171111T091500
DTEND;TZID=Europe/Paris:20171112T170000
CATEGORIES:tous
LOCATION:tous
WEBSITE:https://reiki04.wordpress.com/
URL:https://reiki04.wordpress.com/
CONTACT:0682381211
ORGANIZER;CN="Nicole FOURCADE":https://epanews.fr/profile/Lhamo
ATTACH;FMTTYPE="image/jpeg":
ATTENDEE;ROLE=REQ-PARTICIPANT;PARTSTAT=ACCEPTED;RSVP=TRUE;CN="Nicole F
 OURCADE":https://epanews.fr/profile/Lhamo
END:VEVENT
END:VCALENDAR
