BEGIN:VCALENDAR
PRODID:NingEventWidget-v1
VERSION:2.0
METHOD:PUBLISH
BEGIN:VTIMEZONE
TZID:Europe/Paris
X-LIC-LOCATION:Europe/Paris
BEGIN:DAYLIGHT
TZOFFSETFROM:+0100
TZOFFSETTO:+0200
TZNAME:CEST
DTSTART:19700329T020000
RRULE:FREQ=YEARLY;BYMONTH=3;BYDAY=-1SU
END:DAYLIGHT
BEGIN:STANDARD
TZOFFSETFROM:+0200
TZOFFSETTO:+0100
TZNAME:CET
DTSTART:19701025T030000
RRULE:FREQ=YEARLY;BYMONTH=10;BYDAY=-1SU
END:STANDARD
END:VTIMEZONE
BEGIN:VEVENT
UID:2485226:Event:160480
DTSTAMP:20260422T134045Z
SUMMARY:Stage Reiki 1
DESCRIPTION:Initiations au 1er degré de Reiki pour découvrir cette s
 i belle énergie .\n\nPour plus d'information, aller sur https://epane
 ws.fr/events/stage-reiki-1
DTSTART;TZID=Europe/Paris:20101203T000000
DTEND;TZID=Europe/Paris:20101203T235900
CATEGORIES:56
LOCATION:PONTIVY
WEBSITE:http://www.relaxation-bretagne.fr
URL:http://www.relaxation-bretagne.fr
CONTACT:02 97 25 34 01
ORGANIZER;CN=Marie-Claude:https://epanews.fr/profile/MarieClaudeMENEZ
ATTACH;FMTTYPE="image/jpeg":
ATTENDEE;ROLE=REQ-PARTICIPANT;PARTSTAT=ACCEPTED;RSVP=TRUE;CN=Marie-Cla
 ude:https://epanews.fr/profile/MarieClaudeMENEZ
END:VEVENT
END:VCALENDAR
