BEGIN:VCALENDAR
PRODID:NingEventWidget-v1
VERSION:2.0
METHOD:PUBLISH
BEGIN:VTIMEZONE
TZID:Europe/Paris
X-LIC-LOCATION:Europe/Paris
BEGIN:DAYLIGHT
TZOFFSETFROM:+0100
TZOFFSETTO:+0200
TZNAME:CEST
DTSTART:19700329T020000
RRULE:FREQ=YEARLY;BYMONTH=3;BYDAY=-1SU
END:DAYLIGHT
BEGIN:STANDARD
TZOFFSETFROM:+0200
TZOFFSETTO:+0100
TZNAME:CET
DTSTART:19701025T030000
RRULE:FREQ=YEARLY;BYMONTH=10;BYDAY=-1SU
END:STANDARD
END:VTIMEZONE
BEGIN:VEVENT
UID:2485226:Event:1881422
DTSTAMP:20260421T191153Z
SUMMARY:Modification demandÃ©e
DESCRIPTION:J'anime Â un stage de qi gong sur 4 ateliers de 3h sur la 
 mÃ©thode Â« HUI GONG 1 Â» ou Â« Qi Gong de la sagesse du cÅ“ur Â»Â Â Â
   - SamedisÂ  17-24 mai et 14-21 Juin 2014\nHui gongÂ 1 vise Ã  harmon
 iser le corps et l'esprit afin de parvenir Ã  un Ã©tat de calme intÃ©r
 ieur. C'est une forme mÃ©ditative en mouvement, trÃ¨s agrÃ©able, trÃ¨s
  simple Ã  pratiquer, sans contre-indication. Elle Â travaille au nive
 au physiologique et fonctionnel du cÅ“ur,Â  stimule la circulation Ã©n
 ergÃ©tique et sanguine, nous permet de capter lâ€™Ã©nergie du cosmos.\
 nElle est trÃ¨s efficace dans la lutte contre les allergies, l'hyperte
 nsion artÃ©rielle ou autres maladies cardio-vasculaires (pacemaker, in
 farctus).Â  Elle amÃ©liore les troubles mentaux, lâ€™anxiÃ©tÃ©, les dÃ
 ©pressions, les insomnies en rÃ©duisant le stress, etc. Elle permet de
  dÃ©velopper la concentration et d'amplifier les fonctions du cerveau 
 en obtenant une meilleure mÃ©moire, des idÃ©es claires et une amÃ©lior
 ation de notre intelligence et de notre conscience.Â \nÂ \n\nPour plus
  d'information, aller sur https://epanews.fr/events/stage-qi-gong-hui-
 gong-1-qi-gong-de-la-sagesse-du-coeur
DTSTART;TZID=Europe/Paris:20140517T091500
DTEND;TZID=Europe/Paris:20140517T121500
CATEGORIES:56
LOCATION:Salle parquet de lâ€™Espace GroÃ«z-Ven
WEBSITE:https://sites.google.com/site/lesouffledum
URL:https://sites.google.com/site/lesouffledum
CONTACT:07 85 40 50 49
ORGANIZER:Association le Souffle du Menhir
ATTACH;FMTTYPE="image/jpeg":http://storage.ning.com/topology/rest/1.0/
 file/get/1663116460?profile=original
ATTENDEE;ROLE=REQ-PARTICIPANT;PARTSTAT=ACCEPTED;RSVP=TRUE;CN="bracchi 
 martine":https://epanews.fr/profile/bracchimartine
END:VEVENT
END:VCALENDAR
