BEGIN:VCALENDAR
PRODID:NingEventWidget-v1
VERSION:2.0
METHOD:PUBLISH
BEGIN:VTIMEZONE
TZID:Europe/Paris
X-LIC-LOCATION:Europe/Paris
BEGIN:DAYLIGHT
TZOFFSETFROM:+0100
TZOFFSETTO:+0200
TZNAME:CEST
DTSTART:19700329T020000
RRULE:FREQ=YEARLY;BYMONTH=3;BYDAY=-1SU
END:DAYLIGHT
BEGIN:STANDARD
TZOFFSETFROM:+0200
TZOFFSETTO:+0100
TZNAME:CET
DTSTART:19701025T030000
RRULE:FREQ=YEARLY;BYMONTH=10;BYDAY=-1SU
END:STANDARD
END:VTIMEZONE
BEGIN:VEVENT
UID:2485226:Event:592569
DTSTAMP:20260422T062809Z
SUMMARY:Stage Qi Gong et Yoga
DESCRIPTION:Week-end de Yoga et Qi Gong dans une belle maison en bord 
 de Seine.\nProgramme :\n\nAsanas\nPranayama\nChants de Bhajans et Mant
 ras\nMéditation\nQi Gong\nDu dîner du samedi au dimanche matin 8h00
 , nous partagerons l'expérience du silence intérieur induit par le s
 ilence extérieur (le silence sera notre invité pendant 12h00).\n\nTa
 rif : 190 Euros incluant :\n\nl'enseignement\nl'hébergement en pensio
 n complète (du dîner du vendredi au déjeuner du dimanche), en chamb
 res de 4/5 lits. Il sera demandé une aide pour la vaisselle et l'entr
 etien des lieux. Prévoir draps, duvet et serviettes de toilette.\n\n
 \n\n\nPour plus d'information, aller sur https://epanews.fr/events/sta
 ge-qi-gong-et-yoga
DTSTART;TZID=Europe/Paris:20130524T140000
DTEND;TZID=Europe/Paris:20130526T190000
CATEGORIES:95
LOCATION:LA ROCHE GUYON
WEBSITE:
URL:
CONTACT:0164967459
ORGANIZER;CN=Murielle:https://epanews.fr/profile/Murielle
ATTACH;FMTTYPE="image/jpeg":
ATTENDEE;ROLE=REQ-PARTICIPANT;PARTSTAT=ACCEPTED;RSVP=TRUE;CN=Murielle:
 https://epanews.fr/profile/Murielle
END:VEVENT
END:VCALENDAR
