BEGIN:VCALENDAR
PRODID:NingEventWidget-v1
VERSION:2.0
METHOD:PUBLISH
BEGIN:VTIMEZONE
TZID:Europe/Paris
X-LIC-LOCATION:Europe/Paris
BEGIN:DAYLIGHT
TZOFFSETFROM:+0100
TZOFFSETTO:+0200
TZNAME:CEST
DTSTART:19700329T020000
RRULE:FREQ=YEARLY;BYMONTH=3;BYDAY=-1SU
END:DAYLIGHT
BEGIN:STANDARD
TZOFFSETFROM:+0200
TZOFFSETTO:+0100
TZNAME:CET
DTSTART:19701025T030000
RRULE:FREQ=YEARLY;BYMONTH=10;BYDAY=-1SU
END:STANDARD
END:VTIMEZONE
BEGIN:VEVENT
UID:2485226:Event:854558
DTSTAMP:20260422T023108Z
SUMMARY:Stage de Qi Gong et Chants SacrÃ©s
DESCRIPTION:Â Â Â Â Â Â Â Â  Stage Qi Gong etÂ Â Â Â Â  Chants sacrÃ©s
 \n\nÂ \nA Motivon , Chalet en pleine Montagne dans le Massif du Mont B
 lanc\nÂ Saint Gervais les Bains â€“ le Fayet\nÂ Â Â Â Â  Â Â Â Â Â Â Â
  Â Â Â Â  26 AoutÂ  au 01 Septembre 2012\nÂ Â Â Â Â Â Â Â Â Â Â  Â Â  
 \" Placement du Corps et de la Voix \"\n\nÂ  Â Â Â Â Â Â Â Â Â  Â  CoÃ
 »tÂ du stage : 300 Euros / SemaineÂ Â Â Â Â Â Â Â \nÂ + HÃ©bergement e
 n Pension complÃªteÂ :Â  212 Euros /Pers\nÂ Â Â Â Â Â Â Â Â Â Â  Le St
 age sera animÃ© par FrÃ©dÃ©ric Mouthon :\nprofesseur des disciplines Ã
 ©nergÃ©tiques chinoises (Qi gong , Taiji Quan , Ba Gua Zhang , Assise 
 etÂ  Placement de la Voix ) \nÂ Â Â Â Â Â Â Â Â Â Â Â Â Â Â Â Â  Â \nÂ
   Association Â«Â  Le Fil de SoieÂ Â»\n09 Avenue daumesnil , 91 130 Ri
 s Orangis\nÂ  Contact : F. Mouthon / 06 60 55 27 66\nÂ Â Â Â Â Â Â Â Â
  Â Â Â Â Â Â Â Â Â Â Â Â Â Â Â Â Â Â  E.Mail : fildesoie@yahoo.fr\nÂ Â
  Â Â Â Â Â  NÂ° SiretÂ : 517 437 117 000 32\nÂ \nVersement deÂ : 150 E
 uros d â€™Arrhes Ã  lâ€™inscription\nRÃ¨glement stageÂ : 300 E Ã  lâ€™
 ordre du Fil de Soie\nHÃ©bergementÂ : 212 E Ã  lâ€™ordre de DRC - Les 
 Chamois\n\nAccÃ¨s au Chalet \" Le Plan \" de MotivonÂ :\nEn voitureÂ :
 \nVous rendre Ã  St-Gervais-les-Bains / le FayetÂ : PossibilitÃ© de lo
 uer un box au Fayet. Ensuite prendre le tramway du Mont-blanc (TMB) ju
 squâ€™Ã  la halte de Motivon. Petite marche de +/- 1000m pour accÃ©der
  au chalet.\nEn trainÂ :\nVous rendre jusquâ€™Ã  la gare sncf de St-Ge
 rvais-le-Fayet. Ensuite prendre le tramway du Mont-blanc (TMB) face Ã 
  la gare SNCF jusquâ€™Ã  la halte de Motivon. Petite marche de +/- 100
 0m pour accÃ©der au chalet. Attention aux horaires du TMB. Cliquez ici
  pour vÃ©rifiez les horairesÂ !\nToutes les vivres sont acheminÃ©s par
  le TMB ( tramway du Tour du Mont Blanc)une seule fois pour tout le sÃ
 ©jour .\nÂ Â Â Â Â Â Â Â  SiteÂ : www.sejourmontagnechretien.org\n\nPo
 ur plus d'information, aller sur https://epanews.fr/events/stage-qi-go
 ng-et-chants-sacr-s-au-coeur-du-massif-du-mont-blanc
DTSTART;TZID=Europe/Paris:20120826T000000
DTEND;TZID=Europe/Paris:20120901T235900
CATEGORIES:73
LOCATION:Chalet \"Le Plan \" Ã  Motivon , Saint Gervais/ Le fayet
WEBSITE:http://www.sejourmontagnechretien.org
URL:http://www.sejourmontagnechretien.org
CONTACT:
ORGANIZER;CN="Le Fil de Soie":https://epanews.fr/profile/LeFildeSoie
ATTACH;FMTTYPE="image/jpeg":http://storage.ning.com/topology/rest/1.0/
 file/get/1662625376?profile=original
ATTENDEE;ROLE=REQ-PARTICIPANT;PARTSTAT=ACCEPTED;RSVP=TRUE;CN="Le Fil d
 e Soie":https://epanews.fr/profile/LeFildeSoie
END:VEVENT
END:VCALENDAR
