BEGIN:VCALENDAR
PRODID:NingEventWidget-v1
VERSION:2.0
METHOD:PUBLISH
BEGIN:VTIMEZONE
TZID:Europe/Paris
X-LIC-LOCATION:Europe/Paris
BEGIN:DAYLIGHT
TZOFFSETFROM:+0100
TZOFFSETTO:+0200
TZNAME:CEST
DTSTART:19700329T020000
RRULE:FREQ=YEARLY;BYMONTH=3;BYDAY=-1SU
END:DAYLIGHT
BEGIN:STANDARD
TZOFFSETFROM:+0200
TZOFFSETTO:+0100
TZNAME:CET
DTSTART:19701025T030000
RRULE:FREQ=YEARLY;BYMONTH=10;BYDAY=-1SU
END:STANDARD
END:VTIMEZONE
BEGIN:VEVENT
UID:2485226:Event:3015330
DTSTAMP:20260424T234603Z
SUMMARY:Stage PsychogÃ©nÃ©alogie et Constellations
DESCRIPTION:\n\n\nDes personnes ont la croyance que la connaissance de
  son arbre gÃ©nÃ©alogique ou gÃ©nosociogramme, c'est en guÃ©rir.\nPar 
 expÃ©rience, se libÃ©rer des liens & loyautÃ©s aliÃ©nantes ne peut se 
 faire qu'en visitant l'Ã©motion liÃ©e Ã  telle personne ou forme-pensÃ
 ©e, et cela n'a rien Ã  voir avec le fait deÂ  connaÃ®tre ou savoir.\n
 Â \nA partir de vos prioritÃ©s de vie (votre demande), ce stage permet
  de visiter votre gÃ©nÃ©alogie ; et Ã  l'aide d'autres symboliques viv
 antes, de dÃ©couvrir les loyautÃ©s familiales inconscientes et surtout
  les traverser (nourrir les besoins) afin de s'en libÃ©rer.\nL'accent 
 sera mis sur les Sagesses ancestrales, les belles Ã©nergies transmises
  de gÃ©nÃ©ration en gÃ©nÃ©ration.\nÂ \nL'objectif de ce stage est de p
 oser sa famille dans l'espace, et \" passer d'un arbre gÃ©nÃ©alogique 
 que l'on subit, Ã  un arbre qui nous nourrit \".\nCÃ©dric Dupuis\n\n\n
 \n\nPour toute personne ayant envie de partager un week-end chaleureux
  et thÃ©rapeutique ; Pas de prÃ©requis nÃ©cessaire - Ã¢ge mini : Ã  pa
 rtir de 18 ans.\n\n\n\n\n\n\nInfos & RÃ©sa : https://omea.jimdo.com\n\
 n\n\nPour plus d'information, aller sur https://epanews.fr/events/stag
 e-psychog-n-alogie-amp-constellations
DTSTART;TZID=Europe/Paris:20190927T000000
DTEND;TZID=Europe/Paris:20190929T235900
CATEGORIES:17, 79, 85
LOCATION:En gÃ®te confort : L'O VIVE (17330)
WEBSITE:https://omea.jimdo.com
URL:https://omea.jimdo.com
CONTACT:0769853454
ORGANIZER:
ATTACH;FMTTYPE="image/jpeg":https://storage.ning.com/topology/rest/1.0
 /file/get/1226742560?profile=original
ATTENDEE;ROLE=REQ-PARTICIPANT;PARTSTAT=ACCEPTED;RSVP=TRUE;CN=Cdric:htt
 ps://epanews.fr/profile/Cdric
END:VEVENT
END:VCALENDAR
