BEGIN:VCALENDAR
PRODID:NingEventWidget-v1
VERSION:2.0
METHOD:PUBLISH
BEGIN:VTIMEZONE
TZID:Europe/Paris
X-LIC-LOCATION:Europe/Paris
BEGIN:DAYLIGHT
TZOFFSETFROM:+0100
TZOFFSETTO:+0200
TZNAME:CEST
DTSTART:19700329T020000
RRULE:FREQ=YEARLY;BYMONTH=3;BYDAY=-1SU
END:DAYLIGHT
BEGIN:STANDARD
TZOFFSETFROM:+0200
TZOFFSETTO:+0100
TZNAME:CET
DTSTART:19701025T030000
RRULE:FREQ=YEARLY;BYMONTH=10;BYDAY=-1SU
END:STANDARD
END:VTIMEZONE
BEGIN:VEVENT
UID:2485226:Event:1054095
DTSTAMP:20260421T190557Z
SUMMARY:stage premier niveau reiki usui
DESCRIPTION:olivier jeune maitre reiki passionné par l'energie propos
 e un stage d'initiation a l'énergie reiki courant fevrier. stage sur 
 2 jours. je reste a votre disposition pour plus de renseignements. A t
 res vite\n\nPour plus d'information, aller sur https://epanews.fr/even
 ts/stage-premier-niveau-reiki-usui
DTSTART;TZID=Europe/Paris:20130211T000000
DTEND;TZID=Europe/Paris:20130212T235900
CATEGORIES:69
LOCATION:ECHALAS
WEBSITE:
URL:
CONTACT:
ORGANIZER;CN=olivier:https://epanews.fr/profile/olivier393
ATTACH;FMTTYPE="image/jpeg":
ATTENDEE;ROLE=REQ-PARTICIPANT;PARTSTAT=ACCEPTED;RSVP=TRUE;CN=olivier:h
 ttps://epanews.fr/profile/olivier393
END:VEVENT
END:VCALENDAR
