BEGIN:VCALENDAR
PRODID:NingEventWidget-v1
VERSION:2.0
METHOD:PUBLISH
BEGIN:VTIMEZONE
TZID:Europe/Paris
X-LIC-LOCATION:Europe/Paris
BEGIN:DAYLIGHT
TZOFFSETFROM:+0100
TZOFFSETTO:+0200
TZNAME:CEST
DTSTART:19700329T020000
RRULE:FREQ=YEARLY;BYMONTH=3;BYDAY=-1SU
END:DAYLIGHT
BEGIN:STANDARD
TZOFFSETFROM:+0200
TZOFFSETTO:+0100
TZNAME:CET
DTSTART:19701025T030000
RRULE:FREQ=YEARLY;BYMONTH=10;BYDAY=-1SU
END:STANDARD
END:VTIMEZONE
BEGIN:VEVENT
UID:2485226:Event:1123688
DTSTAMP:20260422T041640Z
SUMMARY:Stage pratique des 22 arcanas le 9 et 10 février dans l'Héra
 ult
DESCRIPTION:\n\nPour plus d'information, aller sur https://epanews.fr/
 events/stage-pratique-des-22-arcanas-le-9-et-10-f-vrier-dans-l-h-rault
DTSTART;TZID=Europe/Paris:20130209T220000
DTEND;TZID=Europe/Paris:20130210T050000
CATEGORIES:tous
LOCATION:Sussargues
WEBSITE:http://artdumouvementessenien.com/lart-du-mouvement-essenien/
URL:http://artdumouvementessenien.com/lart-du-mouvement-essenien/
CONTACT:06 33 81 99 51
ORGANIZER;CN="Cercles d'études Esséniens":https://epanews.fr/profile
 /GLNEEurope
ATTACH;FMTTYPE="image/jpeg":
ATTENDEE;ROLE=REQ-PARTICIPANT;PARTSTAT=ACCEPTED;RSVP=TRUE;CN="Cercles 
 d'études Esséniens":https://epanews.fr/profile/GLNEEurope
END:VEVENT
END:VCALENDAR
