BEGIN:VCALENDAR
PRODID:NingEventWidget-v1
VERSION:2.0
METHOD:PUBLISH
BEGIN:VTIMEZONE
TZID:Europe/Paris
X-LIC-LOCATION:Europe/Paris
BEGIN:DAYLIGHT
TZOFFSETFROM:+0100
TZOFFSETTO:+0200
TZNAME:CEST
DTSTART:19700329T020000
RRULE:FREQ=YEARLY;BYMONTH=3;BYDAY=-1SU
END:DAYLIGHT
BEGIN:STANDARD
TZOFFSETFROM:+0200
TZOFFSETTO:+0100
TZNAME:CET
DTSTART:19701025T030000
RRULE:FREQ=YEARLY;BYMONTH=10;BYDAY=-1SU
END:STANDARD
END:VTIMEZONE
BEGIN:VEVENT
UID:2485226:Event:1049086
DTSTAMP:20260421T161842Z
SUMMARY:Stage pour Hommes et Femmes avec MaPremo les 11 et 12 février
  2013
DESCRIPTION:Stage pour Hommes et Femmes avec MaPremo\n\"Elan de Vie, c
 hemin de l'extase\" ou le chemin de la réconciliation, danse du mascu
 lin et du féminin \nLieu : auberge \"Les Heures claires\" à Cassis.
  Tarif couple : 400€ / 380€ (adhérent), hors hébergement.Apporte
 z tous les repas à partager ensemble pour le week end sauf petits dej
 euners fournis avec l'hébergement.\n \n\nPour plus d'information, al
 ler sur https://epanews.fr/events/stage-pour-hommes-et-femmes-avec-map
 remo-les-11-et-12-f-vrier
DTSTART;TZID=Europe/Paris:20130211T100000
DTEND;TZID=Europe/Paris:20130212T180000
CATEGORIES:13, 83, 84
LOCATION:auberge \"Les Heures claires\"
WEBSITE:http://associationlesnouveauxmondes.com/
URL:http://associationlesnouveauxmondes.com/
CONTACT:06 64 41 57 79
ORGANIZER;CN="Association Les Nouveaux Mondes":https://epanews.fr/prof
 ile/AssociationLesNouveauxMondes
ATTACH;FMTTYPE="image/jpeg":http://storage.ning.com/topology/rest/1.0/
 file/get/1662706068?profile=original
ATTENDEE;ROLE=REQ-PARTICIPANT;PARTSTAT=ACCEPTED;RSVP=TRUE;CN="Associat
 ion Les Nouveaux Mondes":https://epanews.fr/profile/AssociationLesNouv
 eauxMondes
END:VEVENT
END:VCALENDAR
