BEGIN:VCALENDAR
PRODID:NingEventWidget-v1
VERSION:2.0
METHOD:PUBLISH
BEGIN:VTIMEZONE
TZID:Europe/Paris
X-LIC-LOCATION:Europe/Paris
BEGIN:DAYLIGHT
TZOFFSETFROM:+0100
TZOFFSETTO:+0200
TZNAME:CEST
DTSTART:19700329T020000
RRULE:FREQ=YEARLY;BYMONTH=3;BYDAY=-1SU
END:DAYLIGHT
BEGIN:STANDARD
TZOFFSETFROM:+0200
TZOFFSETTO:+0100
TZNAME:CET
DTSTART:19701025T030000
RRULE:FREQ=YEARLY;BYMONTH=10;BYDAY=-1SU
END:STANDARD
END:VTIMEZONE
BEGIN:VEVENT
UID:2485226:Event:2136692
DTSTAMP:20260424T080401Z
SUMMARY:Modification demandÃ©e
DESCRIPTION:En ce dÃ©but d'annÃ©e, une belle occasion de venir faire v
 os pour l'annÃ©e nouvelle ! On sait aujourd'hui qu'une vision claire e
 t prÃ©cise de ce que l'on souhaite pour soi dans le futur a une influe
 nce sur notre cerveau et le guide vers l'obtention de cet objet dÃ©sir
 Ã©. Des connexions se font dans le cortex pour tracer le chemin vers c
 et idÃ©al dÃ©sirÃ©.\nAussi, je vous propose, grÃ¢ce Ã  la peinture sen
 sorielle assortie de l'Ã©criture, de visionner votre futur pour tendre
  vers la rÃ©alisation de vos rÃªves. Donner corps Ã  ses rÃªves, c'est
  possible !\nPendant deux jours, nous peindrons nos rÃªves et les mett
 rons en lien avec des mots, des textes, des poÃ¨mes, lesquels jailliro
 nt de la partie sacrÃ©e de nous mÃªme.\nVenez vivre ces moments de crÃ
 ©ativitÃ© ; venez apprendre Ã  Ãªtre le capitaine du navire que vous Ã
 ªtes ; venez laisser Ã©merger les formes, les couleurs et les mots de 
 votre monde intÃ©rieur.\n\nPour plus d'information, aller sur https://
 epanews.fr/events/stage-peinture-et-ecriture-sensorielles
DTSTART;TZID=Europe/Paris:20150110T093000
DTEND;TZID=Europe/Paris:20150111T170000
CATEGORIES:82
LOCATION:Moissac
WEBSITE:http://www.claire-suire.com/Peinture-sensorielle-et-ecriture.h
 tml
URL:http://www.claire-suire.com/Peinture-sensorielle-et-ecriture.html
CONTACT:06 85 03 57 92
ORGANIZER;CN="Suire claire":https://epanews.fr/profile/Suireclaire
ATTACH;FMTTYPE="image/jpeg":http://storage.ning.com/topology/rest/1.0/
 file/get/1663266434?profile=original
ATTENDEE;ROLE=REQ-PARTICIPANT;PARTSTAT=ACCEPTED;RSVP=TRUE;CN="Suire cl
 aire":https://epanews.fr/profile/Suireclaire
END:VEVENT
END:VCALENDAR
