BEGIN:VCALENDAR
PRODID:NingEventWidget-v1
VERSION:2.0
METHOD:PUBLISH
BEGIN:VTIMEZONE
TZID:Europe/Paris
X-LIC-LOCATION:Europe/Paris
BEGIN:DAYLIGHT
TZOFFSETFROM:+0100
TZOFFSETTO:+0200
TZNAME:CEST
DTSTART:19700329T020000
RRULE:FREQ=YEARLY;BYMONTH=3;BYDAY=-1SU
END:DAYLIGHT
BEGIN:STANDARD
TZOFFSETFROM:+0200
TZOFFSETTO:+0100
TZNAME:CET
DTSTART:19701025T030000
RRULE:FREQ=YEARLY;BYMONTH=10;BYDAY=-1SU
END:STANDARD
END:VTIMEZONE
BEGIN:VEVENT
UID:2485226:Event:2635788
DTSTAMP:20260422T054021Z
SUMMARY:Stage \"Oser travailler heureux ou savoir être soi parmi les 
 autres\" - Échirolles
DESCRIPTION:Devenez Co-Auteur de votre Vie : Oser travailler heureux o
 u savoir être soi parmi les autres\n\"Travailler (en moyenne) huit he
 ures par jour, c'est vendre quotidiennement huit heures de sa vie. La 
 question qui se pose n'est pas tant celle de savoir combien nous la ve
 ndons mais comment nous la vendons. La réponse est que nous la vendon
 s mal mais, surtout, à un prix qui retentit lourdement sur nos vies p
 ersonnelles, conjugales ou familiales...\". C’est le constat que fon
 t, Jacques Salomé et Christian Potié, formateur en relations humaine
 s pour l'un, consultant et dirigeant d'une entreprise de conseils pour
  l'autre, dans leur ouvrage \"Oser travailler heureux\" (Editions Alb
 in Michel, Avril 2000).\nCe stage s’adresse à tous ceux qui ont le 
 désir de mieux vivre leur travail et d’améliorer leurs relations p
 rofessionnelles au quotidien pour rendre accessible leur désir de tra
 vailler heureux. Des balises et des repères accessibles à chacun pou
 r se respecter et se faire respecter dans son cadre professionnel.\nDi
 manche 22 Mai de 10 h à 18 h à Echirolles\nStage animé par Catherin
 e Favre-Moiron\nFacilitatrice du changement - formatrice - coach\nAtel
 ier sur inscription uniquement 60 € adhérent - 70 € non adhérent
 s\nN'hésitez pas à en parler à vos amis, c'est moitié prix pour vo
 us, si vous venez accompagné(e) d’une personne qui n’a jamais par
 ticipé à mes activités.\n\nPour plus d'information, aller sur https
 ://epanews.fr/events/stage-oser-travailler-heureux-ou-savoir-tre-soi-p
 armi-les-autres
DTSTART;TZID=Europe/Paris:20160522T000000
DTEND;TZID=Europe/Paris:20160522T235900
CATEGORIES:38, 73, 26, 01, 74, 69
LOCATION:Echirolles
WEBSITE:
URL:
CONTACT:06 95 38 06 34
ORGANIZER;CN=Katrine:https://epanews.fr/profile/Katrine
ATTACH;FMTTYPE="image/jpeg":http://storage.ning.com/topology/rest/1.0/
 file/get/1663562207?profile=original
ATTENDEE;ROLE=REQ-PARTICIPANT;PARTSTAT=ACCEPTED;RSVP=TRUE;CN=Katrine:h
 ttps://epanews.fr/profile/Katrine
END:VEVENT
END:VCALENDAR
