BEGIN:VCALENDAR
PRODID:NingEventWidget-v1
VERSION:2.0
METHOD:PUBLISH
BEGIN:VTIMEZONE
TZID:Europe/Paris
X-LIC-LOCATION:Europe/Paris
BEGIN:DAYLIGHT
TZOFFSETFROM:+0100
TZOFFSETTO:+0200
TZNAME:CEST
DTSTART:19700329T020000
RRULE:FREQ=YEARLY;BYMONTH=3;BYDAY=-1SU
END:DAYLIGHT
BEGIN:STANDARD
TZOFFSETFROM:+0200
TZOFFSETTO:+0100
TZNAME:CET
DTSTART:19701025T030000
RRULE:FREQ=YEARLY;BYMONTH=10;BYDAY=-1SU
END:STANDARD
END:VTIMEZONE
BEGIN:VEVENT
UID:2485226:Event:1074373
DTSTAMP:20260421T171726Z
SUMMARY:Stage \" Mettre en pratique le pouvoir du moment présent\" se
 lon les écrits d´Eckhart Tolle
DESCRIPTION:Le travail proposé lors de ce stage est basé sur les éc
 rits d'Eckhart Tolle.  Les exercices pratiques sont fondés sur de co
 urts moments de méditation pour développer l'éveil de la conscience
  de soi, le sens de l'écoute et l'attention perceptive corporelle.\nC
 ette pratique vise à faire taire quelques minutes la pensée ordinair
 e dans le but d'avoir une conscience de soi plus profonde. Elle vise l
 e relâchement des conflits ou malaises propres à l'homme contemporai
 n.\nPar la pratique de ces exercices, la finalité est de se libérer 
 de notre identification à notre ego, conditionné par le mental, et d
 e se relier à notre vraie nature : notre Être.\n\n\nPour plus d'inf
 ormation, aller sur https://epanews.fr/events/stage-mettre-en-pratique
 -le-pouvoir-du-moment-pr-sent-selon-les
DTSTART;TZID=Europe/Paris:20130126T100000
DTEND;TZID=Europe/Paris:20130127T180000
CATEGORIES:13
LOCATION:Espace Evolutif - 23 bd Baille - 13006 Marseille
WEBSITE:http://www.espace-evolutif.fr/
URL:http://www.espace-evolutif.fr/
CONTACT:
ORGANIZER:http://assonouvelleterre.blogspot.fr/
ATTACH;FMTTYPE="image/jpeg":http://storage.ning.com/topology/rest/1.0/
 file/get/1662735226?profile=original
ATTENDEE;ROLE=REQ-PARTICIPANT;PARTSTAT=ACCEPTED;RSVP=TRUE;CN="associat
 ion.nouvelleterre":https://epanews.fr/profile/associationnouvelleterre
END:VEVENT
END:VCALENDAR
