BEGIN:VCALENDAR
PRODID:NingEventWidget-v1
VERSION:2.0
METHOD:PUBLISH
BEGIN:VTIMEZONE
TZID:Europe/Paris
X-LIC-LOCATION:Europe/Paris
BEGIN:DAYLIGHT
TZOFFSETFROM:+0100
TZOFFSETTO:+0200
TZNAME:CEST
DTSTART:19700329T020000
RRULE:FREQ=YEARLY;BYMONTH=3;BYDAY=-1SU
END:DAYLIGHT
BEGIN:STANDARD
TZOFFSETFROM:+0200
TZOFFSETTO:+0100
TZNAME:CET
DTSTART:19701025T030000
RRULE:FREQ=YEARLY;BYMONTH=10;BYDAY=-1SU
END:STANDARD
END:VTIMEZONE
BEGIN:VEVENT
UID:2485226:Event:2611352
DTSTAMP:20260421T171007Z
SUMMARY:stage massage tantrique cachemiry
DESCRIPTION:Stage Massage Tantrique Cachemiry\nTantra, corps, sensuali
 té, spiritualité, massage Cachemiry\n \nDes espaces sacrés et joye
 ux: sensualité, massage, conscience, paroles, méditations et silence
 s.\n \nChristophe Dacier animera et vous\n guidera dans ces espaces 
 corporels\nsensibles et sensuels donnant du sens aux contacts subtils 
 et physiques.\nLes inscriptions se font dans l’ordre après un entre
 tien téléphonique - (les premiers inscrits sont sûrs de participer 
 – inscriptions validées selon parité numérique et équilibre H/F 
 selon les stages)\n \nUne évolution sensible personnelle ou professi
 onnelle : quand le mouvement intégrant la technique devient une éco
 ute active savoureuse et spirituelle.\nstage-ETE-2016-A5-pr%20mail.pdf
 \nVIDEOS /  https://youtu.be/ZBqcAYNHjzo\nAout  2016 : du 10 -16h 
  au 15 -17h\nAnimation : 520 € / 600 Fch – par personne\nHéberge
 ment sur place en pension complète\n Hebergement : Lieu : Kalys : 
 La Villarderie - lieu-dit \"Jaugy\" - 41 130 - Gièvres.\n \n\nPour p
 lus d'information, aller sur https://epanews.fr/events/stage-massage-t
 antrique-cachemiry
DTSTART;TZID=Europe/Paris:20160810T160000
DTEND;TZID=Europe/Paris:20160815T170000
CATEGORIES:41
LOCATION:41
WEBSITE:http://relations-d-amour.net
URL:http://relations-d-amour.net
CONTACT:0612199141
ORGANIZER;CN="Christophe Dacier":https://epanews.fr/profile/Christophe
 Dacier
ATTACH;FMTTYPE="image/jpeg":http://storage.ning.com/topology/rest/1.0/
 file/get/1663544525?profile=original
ATTENDEE;ROLE=REQ-PARTICIPANT;PARTSTAT=ACCEPTED;RSVP=TRUE;CN="Christop
 he Dacier":https://epanews.fr/profile/ChristopheDacier
END:VEVENT
END:VCALENDAR
