BEGIN:VCALENDAR
PRODID:NingEventWidget-v1
VERSION:2.0
METHOD:PUBLISH
BEGIN:VTIMEZONE
TZID:Europe/Paris
X-LIC-LOCATION:Europe/Paris
BEGIN:DAYLIGHT
TZOFFSETFROM:+0100
TZOFFSETTO:+0200
TZNAME:CEST
DTSTART:19700329T020000
RRULE:FREQ=YEARLY;BYMONTH=3;BYDAY=-1SU
END:DAYLIGHT
BEGIN:STANDARD
TZOFFSETFROM:+0200
TZOFFSETTO:+0100
TZNAME:CET
DTSTART:19701025T030000
RRULE:FREQ=YEARLY;BYMONTH=10;BYDAY=-1SU
END:STANDARD
END:VTIMEZONE
BEGIN:VEVENT
UID:2485226:Event:1727481
DTSTAMP:20260425T122309Z
SUMMARY:Stage Massage Tantra inspirÃ© des traditions Cachemirienne et 
 TaoÃ¯ste
DESCRIPTION:Initiation massage Tantra inspirÃ© des traditions Cachemir
 ienne et TaoÃ¯ste\nÂ Jâ€™aiÂ le plaisir de vous annoncerÂ le prochainÂ
  week-end de massage Tantra inspirÃ© des traditions Cachemirienne et T
 aoÃ¯ste qui aura lieu dans un site magnifique de la Haute ArdÃ¨che prÃ
 ¨s de St. FÃ©licien.Ce stage se dÃ©roulera le 21/22/23 Mars\nAccueil l
 e Vendredi Ã  partir de 9h, dÃ©but du stage Ã  15h.\nLe nombre de plac
 es est limitÃ© Ã  12 personnes (6 Shivas et 6 Shaktis),\nLe stage est 
 Ã  participation libre sur une base de gÃ©nÃ©rositÃ© de 140â‚¬. HÃ©ber
 gement 50â‚¬.\nÂ N'hÃ©sitez pas Ã  me contacter pour plus d'informatio
 ns ou laissez moi votre e-mail et je vous enverrai la plaquette du sta
 ge.\nAu plaisir de vous rencontrez dans une belle Ã‰nergie Tantrique.\
 nJean Luc\n\nPour plus d'information, aller sur https://epanews.fr/eve
 nts/stage-massage-tantra-inspir-des-traditions-cachemirienne-et-tao-2
DTSTART;TZID=Europe/Paris:20140321T150000
DTEND;TZID=Europe/Paris:20140323T170000
CATEGORIES:07
LOCATION:St. FÃ©licien
WEBSITE:
URL:
CONTACT:0614248117
ORGANIZER:Jean-luc Faucon  erarobcles@yahoo.fr
ATTACH;FMTTYPE="image/jpeg":http://storage.ning.com/topology/rest/1.0/
 file/get/1662772815?profile=original
ATTENDEE;ROLE=REQ-PARTICIPANT;PARTSTAT=ACCEPTED;RSVP=TRUE;CN="Jean-luc
  Faucon":https://epanews.fr/profile/JeanlucFaucon
END:VEVENT
END:VCALENDAR
