BEGIN:VCALENDAR
PRODID:NingEventWidget-v1
VERSION:2.0
METHOD:PUBLISH
BEGIN:VTIMEZONE
TZID:Europe/Paris
X-LIC-LOCATION:Europe/Paris
BEGIN:DAYLIGHT
TZOFFSETFROM:+0100
TZOFFSETTO:+0200
TZNAME:CEST
DTSTART:19700329T020000
RRULE:FREQ=YEARLY;BYMONTH=3;BYDAY=-1SU
END:DAYLIGHT
BEGIN:STANDARD
TZOFFSETFROM:+0200
TZOFFSETTO:+0100
TZNAME:CET
DTSTART:19701025T030000
RRULE:FREQ=YEARLY;BYMONTH=10;BYDAY=-1SU
END:STANDARD
END:VTIMEZONE
BEGIN:VEVENT
UID:2485226:Event:2521049
DTSTAMP:20260423T040719Z
SUMMARY:Stage Massage Sensitif
DESCRIPTION:En cette entrÃ©e de l'hivver, venez dÃ©couvrir et pratique
 r, une technique de massage et de communication non-verbale particuliÃ
 ¨re, le Massage SensitifÂ®.Â Ce stage concerne les personnes rechercha
 nt apprentissage, mieux Ãªtre, Ã©panouissement personnel et relationne
 l.Â Vous serez hÃ©bergÃ©s dans un gite ardÃ©chois authentique au sein 
 dâ€™un cadre magnifique.\n\nPour plus d'information, aller sur https:/
 /epanews.fr/events/stage-massage-sensitif
DTSTART;TZID=Europe/Paris:20151212T100000
DTEND;TZID=Europe/Paris:20151213T180000
CATEGORIES:07
LOCATION:Mas Channac
WEBSITE:http://www.etre-en-chemin.com
URL:http://www.etre-en-chemin.com
CONTACT:06 86 98 37 66 / 04 75 89 94 12
ORGANIZER;CN=Bob:https://epanews.fr/profile/RobertCP
ATTACH;FMTTYPE="image/jpeg":http://storage.ning.com/topology/rest/1.0/
 file/get/1663498005?profile=original
ATTENDEE;ROLE=REQ-PARTICIPANT;PARTSTAT=ACCEPTED;RSVP=TRUE;CN=Bob:https
 ://epanews.fr/profile/RobertCP
END:VEVENT
END:VCALENDAR
