BEGIN:VCALENDAR
PRODID:NingEventWidget-v1
VERSION:2.0
METHOD:PUBLISH
BEGIN:VTIMEZONE
TZID:Europe/Paris
X-LIC-LOCATION:Europe/Paris
BEGIN:DAYLIGHT
TZOFFSETFROM:+0100
TZOFFSETTO:+0200
TZNAME:CEST
DTSTART:19700329T020000
RRULE:FREQ=YEARLY;BYMONTH=3;BYDAY=-1SU
END:DAYLIGHT
BEGIN:STANDARD
TZOFFSETFROM:+0200
TZOFFSETTO:+0100
TZNAME:CET
DTSTART:19701025T030000
RRULE:FREQ=YEARLY;BYMONTH=10;BYDAY=-1SU
END:STANDARD
END:VTIMEZONE
BEGIN:VEVENT
UID:2485226:Event:1781603
DTSTAMP:20260421T113918Z
SUMMARY:stage massage\"re-connaitre son corps pour mieux vivre sa plac
 e\"
DESCRIPTION:stage sur Paris 29-30 mars et figeac 19-21 Avril\nLE MASSA
 GE INITIATIQUE (Alexandro Jodorowsky avec qui je me suis initié 8 ann
 ées) nous permet de reconnaitre notre corps avec sa mémoire,personn
 elle, familiale-\nEn massant les os, les muscles, la peau, nous commen
 cons à révéler cette mémoire.\nEnsuite avec les massage du bébé 
 , des parents, du couple\nnous ouvrons nos être à une plus grande li
 berté corporelle, émotionnelle, sexuelle, spirituelle\npratique: mas
 sages au sol sur tatami\nhuile, paréo\nparticipation:130euros\nNOMBRE
  DE PARTIPANTS LIMITE A 10\n pas de prérequis en massage, ouvert à 
 tous\na bien tot  Dan\nDaniel LABILLE masso-thérapeute,formateur\nif
 ta.fr Institut FRANCAIS DES therapies ALTERNATIVES\nvideo youtube mass
 age meditation\n \n\nPour plus d'information, aller sur https://epane
 ws.fr/events/stage-massage-re-connaitre-son-corps-pour-mieux-vivre-sa-
 place
DTSTART;TZID=Europe/Paris:20140329T100000
DTEND;TZID=Europe/Paris:20140330T190000
CATEGORIES:75
LOCATION:PARIS 18 EME
WEBSITE:http://daniellabille9.wix.com/massage-corps-et-ame
URL:http://daniellabille9.wix.com/massage-corps-et-ame
CONTACT:06 16 43 16 49
ORGANIZER;CN="daniel labille":https://epanews.fr/profile/daniellabille
 505
ATTACH;FMTTYPE="image/jpeg":http://storage.ning.com/topology/rest/1.0/
 file/get/1663059582?profile=original
ATTENDEE;ROLE=REQ-PARTICIPANT;PARTSTAT=ACCEPTED;RSVP=TRUE;CN="daniel l
 abille":https://epanews.fr/profile/daniellabille505
END:VEVENT
END:VCALENDAR
